Workbook
Name 愛知県: 市町村コード!$X$3:$X$71
Name 愛媛県: 市町村コード!$AM$3:$AM$22
Name 茨城県: 市町村コード!$I$3:$I$46
Name 岡山県: 市町村コード!$AH$3:$AH$32
Name 沖縄県: 市町村コード!$AV$3:$AV$43
Name 岩手県: 市町村コード!$D$3:$D$35
Name 岐阜県: 市町村コード!$V$3:$V$44
Name 宮崎県: 市町村コード!$AT$3:$AT$28
Name 宮城県: 市町村コード!$E$3:$E$41
Name 京都府: 市町村コード!$AA$3:$AA$38
Name 熊本県: 市町村コード!$AR$3:$AR$51
Name 群馬県: 市町村コード!$K$3:$K$37
Name 広島県: 市町村コード!$AI$3:$AI$32
Name 香川県: 市町村コード!$AL$3:$AL$19
Name 高知県: 市町村コード!$AN$3:$AN$36
Name 佐賀県: 市町村コード!$AP$3:$AP$22
Name 埼玉県: 市町村コード!$L$3:$L$74
Name 三重県: 市町村コード!$Y$3:$Y$31
Name 山形県: 市町村コード!$G$3:$G$37
Name 山口県: 市町村コード!$AJ$3:$AJ$21
Name 山梨県: 市町村コード!$T$3:$T$29
Name 滋賀県: 市町村コード!$Z$3:$Z$21
Name 鹿児島県: 市町村コード!$AU$3:$AU$45
Name 秋田県: 市町村コード!$F$3:$F$27
Name 新潟県: 市町村コード!$P$3:$P$39
Name 神奈川県: 市町村コード!$O$3:$O$60
Name 青森県: 市町村コード!$C$3:$C$42
Name 静岡県: 市町村コード!$W$3:$W$41
Name 石川県: 市町村コード!$R$3:$R$21
Name 千葉県: 市町村コード!$M$3:$M$61
Name 大阪府: 市町村コード!$AB$3:$AB$74
Name 大分県: 市町村コード!$AS$3:$AS$20
Name 長崎県: 市町村コード!$AQ$3:$AQ$23
Name 長野県: 市町村コード!$U$3:$U$79
Name 鳥取県: 市町村コード!$AF$3:$AF$21
Name 島根県: 市町村コード!$AG$3:$AG$21
Name 東京都: 市町村コード!$N$3:$N$64
Name 徳島県: 市町村コード!$AK$3:$AK$26
Name 栃木県: 市町村コード!$J$3:$J$27
Name 奈良県: 市町村コード!$AD$3:$AD$41
Name 富山県: 市町村コード!$Q$3:$Q$17
Name 福井県: 市町村コード!$S$3:$S$19
Name 福岡県: 市町村コード!$AO$3:$AO$74
Name 福島県: 市町村コード!$H$3:$H$61
Name 兵庫県: 市町村コード!$AC$3:$AC$51
Name 北海道: 市町村コード!$B$3:$B$196
Name 和歌山県: 市町村コード!$AE$3:$AE$32

Sheet 初期画面
AD1: 確認 | AE1: 中間検査 | AF1: 完了検査
AC2: 交付種別 | AD2: 電子交付 | AE2: 電子交付 | AF2: 電子交付
A3: 確認申請書
J7: Ver.20260907
A9: このExcelＢＯＯＫでは㈱都市建築確認センターへの確認申請における確認申請書、建築計画概要書、建築工事届、委任状、予備審査事前連絡先記入シート、予備審査調査表を作成することができます。これらの書類を一括で作成し、従来の重複項目を連動で入力させることで業務を効率化することができます。 また、電子申請の場合は仮受時にこのＥＸＣＥＬＢＯＯＫを添付して下記メールアドレスにお送りください。 審査の順番に関しては図書の提出があってから決定させていただきます。 （図書の提出がされない場合は次点の物件を優先的に審査いたします。） 尚、このEXCELはマクロを使用せず、関数のみで作成しております。編集ロックをしていないのでセルの変更は自由に行うことができますが、変更をすると連動がうまくいかない場合がありますのでご了承ください。
AC29: 【１８．建築基準法第１２条第３項の規定による検査を要する防火設備の有無】
AC30: 概要書第二面に移動しました（クリックでリンクします）
A35: メールアドレス： | M35: kakunin@t-kkc.co.jp
A36: （メール送付の際の件名は「仮受＆物件名」 宛先は「仮受担当」でお願いいたします。）
A38: ※下記をクリックすると各ページにリンクします。
B41: 申請書 | H41: 概要書 | P41: 工事届 | V41: 委任状
B43: 事前連絡先記入シート | Q43: 予備審査調査票
B45: 電子申請システム登録申込書
A49: このＥＸＣＥＬＢＯＯＫの不具合や改善点等のご意見がありましたら、下記のメールアドレスにご連絡ください。
A53: メールアドレス： | M53: kakunin@t-kkc.co.jp
C57: 建築物データ
C59: ゲスト登録

Sheet 電申申込書
B1: ㈱都市建築確認センター 電子申請システム登録申込書
F3: … | G3: 選択してください | M3: … | O3: に入力してください | V3: 申 込 日 | AB3: 申込日
V4: =IF(AB4<>"",TEXT(AB4,"gggy年mm月d日"),"") | AA4: ←
B6: ●物件名 ※既に仮受申請をしている場合は同一物件名としてください | P6: ●申請の進捗 | V6: ○未申請の場合の申請予定日 | AB6: 未申請の場合の申請予定日
V7: =IF(AB7<>"",TEXT(AB7,"ggg年mm月d日"),"") | AA7: ←
B10: ●物件概要（【申請の進捗】が【仮受申請前】の場合のみ入力してください。）
B11: 建築地 | H11: 用途 | M11: 規模 | P11: 階数 | S11: 構造 | V11: その他の情報
B15: ●システムを使用する方の情報（図面等を指定のフォルダにアップロードする方）
C16: 担当 | E16: 会社名 | L16: 氏名 | P16: メールアドレス（IDになります） | V16: 電話番号
B17: 記入例 | C17: 申請代表者 | E17: 株式会社○○一級建築士事務所 | L17: ○○ ○○ | P17: ○○○＠t-kkc.co.jp | V17: 03-5844-0066
B18: ① | C18: 申請代表者
B19: ②
B20: ③
B21: ④
B22: ⑤
B24: ♦ | C24: ①の申請代表者は建築主、設置者、築造主又は代理者としてください。 | O24: ♦ | P24: Excel形式でご提出ください。
B25: ♦ | C25: ①の申請代表者のみ確認済証交付後の副本のダウンロードが可能です。
B26: ♦ | C26: システム利用者は原則、１申請につき５名までとします。
A39: 意匠（ゲスト） | B39: 仮受申請前
A40: 設備（ゲスト） | B40: 仮受申請中
A41: 構造（ゲスト） | B41: もうすぐ本受付
A42: その他（ゲスト） | B42: すぐに本受付

Sheet 郵送先
AA6: 記入例
A7: 確認済証 郵送先 | C7: 郵送方法 | H7: レターパックライト
C8: 送付先名 | AA8: 株式会社 都市建築確認センター
AA9: 代表取締役 本田 實
C10: 住 所 | AA10: 東京都文京区湯島１－９－１５ 御茶ノ水HYビル５F
C11: 電話番号 | Q11: 郵便番号 | AA11: 03-5844-0066 | AD11: 1130034

Sheet 第二面（入力）
A1: 入力１
A2: 【資格】 | K2: ( | P2: )建築士( | W2: ）登録第 | AF2: 号
A3: 【氏名】
A4: 【建築士事務所名】 | K4: ( | O4: )建築士事務所( | W4: )知事登録第 | AF4: 号
A6: 【郵便番号】
A7: 【所在地】
A8: 【電話番号】
A9: 【作成、確認、照合設計図書】
A10: 【資格番号等】
A11: 入力２
A12: 【資格】 | K12: ( | P12: )建築士( | W12: ）登録第 | AF12: 号
A13: 【氏名】
A14: 【建築士事務所名】 | K14: ( | O14: )建築士事務所( | W14: )知事登録第 | AF14: 号
A16: 【郵便番号】
A17: 【所在地】
A18: 【電話番号】
A19: 【作成、確認、照合設計図書】
A20: 【資格番号等】
A21: 入力３
A22: 【資格】 | K22: ( | P22: )建築士( | W22: ）登録第 | AF22: 号
A23: 【氏名】
A24: 【建築士事務所名】 | K24: ( | O24: )建築士事務所( | W24: )知事登録第 | AF24: 号
A26: 【郵便番号】
A27: 【所在地】
A28: 【電話番号】
A29: 【作成、確認、照合設計図書】
A30: 【資格番号等】
A31: 入力４
A32: 【資格】 | K32: ( | P32: )建築士( | W32: ）登録第 | AF32: 号
A33: 【氏名】
A34: 【建築士事務所名】 | K34: ( | O34: )建築士事務所( | W34: )知事登録第 | AF34: 号
A36: 【郵便番号】
A37: 【所在地】
A38: 【電話番号】
A39: 【作成、確認、照合設計図書】
A40: 【資格番号等】
A41: 入力５
A42: 【資格】 | K42: ( | P42: )建築士( | W42: ）登録第 | AF42: 号
A43: 【氏名】
A44: 【建築士事務所名】 | K44: ( | O44: )建築士事務所( | W44: )知事登録第 | AF44: 号
...

Sheet 第一面
A1: 第二号様式（第一条の三、第三条、第三条の三関係）（Ａ４） | AR1: 受付日
AR2: 交付日
AR3: 担当者
AR4: 番号下4桁
A5: 確認申請書（建築物）
AR6: 着工日 | AS6: =IF('第三面-2'!AF20<>"",'第三面-2'!AF20,"") | AT6: =IF(AS6<TODAY(),"NG","")
A8: （第一面）
A11: 建築基準法第６条第１項又は第６条の２第１項の規定による確認を申請します。この申請書及び添付図書に記載の事項は、事実に相違ありません。
A15: 株式会社 都市建築確認センター 御中
Z18: 令和 | AB18: =IF(AI18="","",(YEAR(AI18)-2018)) | AC18: 年 | AD18: =IF(AI18="","",MONTH(AI18)) | AE18: 月 | AF18: =IF(AI18="","",DAY(AI18)) | AG18: 日
N19: 申請者氏名
N25: 設計者氏名 | T25: =IF(第二面!K24="","",第二面!K24)
T26: =IF(第二面!K22="","",第二面!K22)
A34: ※手数料欄
A36: ※ 受 付 欄 | J36: ※消防関係同意欄 | R36: ※決裁欄 | Y36: ※確認番号欄
A39: 令和 | C39: =IF(AS1="","",TEXT(AS1,"e")) | E39: 年 | F39: =IF(AS1="","",TEXT(AS1,"m")) | G39: 月 | H39: =IF(AS1="","",TEXT(AS1,"d")) | I39: 日 | Y39: 令和 | AA39: =IF(AS2="","",TEXT(AS2,"e")) | AC39: 年 | AD39: =IF(AS2="","",TEXT(AS2,"m")) | AE39: 月 | AF39: =IF(AS2="","",TEXT(AS2,"d")) | AG39: 日
A42: 第 | B42: =IF(AS1<>"","TKC"&TEXT(AS1,"yy")&"建確"&IF(LEFT(第三面!F4,1)="山","梨",LEFT(第三面!F4,1))&AS4,"TKC"&" "&"建確"&IF(LEFT(第三面!F4,1)="山","梨",LEFT(第三面!F4,1))) -> TKC 建確 | I42: 号 | Y42: 第 | Z42: =IF(AS2="","TKC"&" "&"建確"&IF(LEFT(第三面!F4,1)="山","梨",LEFT(第三面!F4,1)),B42) -> TKC 建確 | AG42: 号
A45: 係員氏名 | D45: =IF(AS3="","",AS3) | Y45: 係員氏名 | AB45: =IF(AS2="","",D45)

Sheet 第一面 (計変)
A1: 第四号様式（第一条の三、第三条、第三条の三関係）（Ａ４） | AR1: 受付日
AR2: 交付日
AR3: 担当者
AR4: 番号下4桁
A5: 計画変更確認申請書（建築物）
A8: （第一面）
A11: 建築基準法第６条の２第１項の規定による計画の変更の確認を申請します。この申請書及び添付図書に記載の事項は、事実に相違ありません。
A15: 株式会社 都市建築確認センター 御中
Z18: 令和 | AB18: =IF(AI18="","",(YEAR(AI18)-2018)) | AC18: 年 | AD18: =IF(AI18="","",MONTH(AI18)) | AE18: 月 | AF18: =IF(AI18="","",DAY(AI18)) | AG18: 日
N19: 申請者氏名
AG23: =IF(R22<>"","印","")
N25: 設計者氏名 | R25: =IF(第二面!K24="","",第二面!K24)
R26: =IF(第二面!K22="","",第二面!K22) | AI26: ↓ 他社の場合、こちらに番号を入力してください。
B28: 【計画を変更する建築物の直前の確認】 | AI28: ↓ 前願が弊社の場合、選択・入力してください。
C29: 【確認済証番号】 | J29: =IF(AI27<>"",AI27,IF(AI29<>"",DBCS("第TKC"&AI29&"建"&AJ29&AK29&AL29&AM29&"号"),""))
C30: 【確認済証交付年月日】 | J30: =IF(AO30<43586,"平成","令和") -> 平成 | L30: =IF(AI30="","",IF(AO30<43586,YEAR(AI30)-1988,IF(YEAR(AI30)-2018=1,"元",YEAR(AI30)-2018))) | M30: 年 | N30: =IF(AI30="","",MONTH(AI30)) | O30: 月 | P30: =IF(AI30="","",DAY(AI30)) | Q30: 日 | AO30: =AI30 -> 0
C31: 【確認済証交付者】
C33: 【計画変更の概要】
A35: ※手数料欄
A37: ※ 受 付 欄 | J37: ※消防関係同意欄 | R37: ※決裁欄 | Y37: ※確認番号欄
A40: 令和 | C40: =IF(AS1="","",TEXT(AS1,"e")) | E40: 年 | F40: =IF(AS1="","",TEXT(AS1,"m")) | G40: 月 | H40: =IF(AS1="","",TEXT(AS1,"d")) | I40: 日 | Y40: 令和 | AA40: =IF(AS2="","",TEXT(AS2,"e")) | AC40: 年 | AD40: =IF(AS2="","",TEXT(AS2,"m")) | AE40: 月 | AF40: =IF(AS2="","",TEXT(AS2,"d")) | AG40: 日
A43: 第 | B43: =IF(AS1<>"","TKC"&TEXT(AS1,"yy")&"建更"&IF(LEFT(第三面!F4,1)="山","梨",LEFT(第三面!F4,1))&AS4,"TKC"&" "&"建更"&IF(LEFT(第三面!F4,1)="山","梨",LEFT(第三面!F4,1))) -> TKC 建更 | I43: 号 | Y43: 第 | Z43: =IF(AS2="","TKC"&" "&"建更"&IF(LEFT(第三面!F4,1)="山","梨",LEFT(第三面!F4,1)),B43) -> TKC 建更 | AG43: 号
A46: 係員氏名 | D46: =IF(AS3="","",AS3) | Y46: 係員氏名 | AB46: =IF(AS2="","",D46)

Sheet 第二面
A1: （第二面）
A2: 建築主等の概要
A3: 【1．建築主】
A4: 【ｲ．氏名のﾌﾘｶﾞﾅ】
A5: 【ﾛ．氏名】
A6: 【ﾊ．郵便番号】
A7: 【ﾆ．住所】
A8: 【ﾎ．電話番号】
A10: 【2．代理者】
A11: 【ｲ．資格】 | K11: ( | L11: =IFERROR(VLOOKUP(AE11,AF84:AS93,2,FALSE),"") | O11: )建築士( | R11: =IFERROR(VLOOKUP(AE11,AF84:AR93,3,FALSE),"") | U11: ）登録第 | X11: =IFERROR(VLOOKUP(AE11,AF84:AR93,4,FALSE),"") | AC11: 号
A12: 【ﾛ．氏名】 | K12: =IFERROR(VLOOKUP(AE11,AF84:AR93,5,FALSE),"")
A13: 【ﾊ．建築士事務所名】 | K13: ( | L13: =IFERROR(VLOOKUP(AE11,AF84:AS93,6,FALSE),"") | N13: )建築士事務所( | S13: =IFERROR(VLOOKUP(AE11,AF84:AR93,7,FALSE),"") | U13: )知事登録第 | Y13: =IFERROR(VLOOKUP(AE11,AF84:AR93,8,FALSE),"") | AC13: 号
K14: =IFERROR(VLOOKUP(AE11,AF84:AR93,9,FALSE),"")
A15: 【ﾆ．郵便番号】 | K15: =IFERROR(VLOOKUP(AE11,AF84:AR93,10,FALSE),"")
A16: 【ﾎ．所在地】 | K16: =IFERROR(VLOOKUP(AE11,AF84:AR93,11,FALSE),"")
A17: 【ﾍ．電話番号】 | K17: =IFERROR(VLOOKUP(AE11,AF84:AR93,12,FALSE),"")
A19: 【3．設計者】
A20: （代表となる設計者）
A21: 【ｲ．資格】 | K21: ( | L21: =IFERROR(VLOOKUP(AE21,AF84:AS93,2,FALSE),"") | O21: )建築士( | R21: =IFERROR(VLOOKUP(AE21,AF84:AR93,3,FALSE),"") | U21: ）登録第 | X21: =IFERROR(VLOOKUP(AE21,AF84:AR93,4,FALSE),"") | AC21: 号
A22: 【ﾛ．氏名】 | K22: =IFERROR(VLOOKUP(AE21,AF84:AR93,5,FALSE),"")
A23: 【ﾊ．建築士事務所名】 | K23: ( | L23: =IFERROR(VLOOKUP(AE21,AF84:AS93,6,FALSE),"") | N23: )建築士事務所( | S23: =IFERROR(VLOOKUP(AE21,AF84:AR93,7,FALSE),"") | U23: )知事登録第 | Y23: =IFERROR(VLOOKUP(AE21,AF84:AR93,8,FALSE),"") | AC23: 号
K24: =IFERROR(VLOOKUP(AE21,AF84:AR93,9,FALSE),"")
A25: 【ﾆ．郵便番号】 | K25: =IFERROR(VLOOKUP(AE21,AF84:AR93,10,FALSE),"")
A26: 【ﾎ．所在地】 | K26: =IFERROR(VLOOKUP(AE21,AF84:AR93,11,FALSE),"")
A27: 【ﾍ．電話番号】 | K27: =IFERROR(VLOOKUP(AE21,AF84:AR93,12,FALSE),"")
A28: 【ﾄ．作成又は確認した設計図書】 | K28: =IFERROR(VLOOKUP(AE21,AF84:AR93,13,FALSE),"")
A30: （その他の設計者）
A31: 【ｲ．資格】 | K31: ( | L31: =IFERROR(VLOOKUP(AE31,AF84:AS93,2,FALSE),"") | O31: )建築士( | R31: =IFERROR(VLOOKUP(AE31,AF84:AR93,3,FALSE),"") | U31: ）登録第 | X31: =IFERROR(VLOOKUP(AE31,AF84:AR93,4,FALSE),"") | AC31: 号
A32: 【ﾛ．氏名】 | K32: =IFERROR(VLOOKUP(AE31,AF84:AR93,5,FALSE),"")
A33: 【ﾊ．建築士事務所名】 | K33: ( | L33: =IFERROR(VLOOKUP(AE31,AF84:AS93,6,FALSE),"") | N33: )建築士事務所( | S33: =IFERROR(VLOOKUP(AE31,AF84:AR93,7,FALSE),"") | U33: )知事登録第 | Y33: =IFERROR(VLOOKUP(AE31,AF84:AR93,8,FALSE),"") | AC33: 号
K34: =IFERROR(VLOOKUP(AE31,AF84:AR93,9,FALSE),"")
A35: 【ﾆ．郵便番号】 | K35: =IFERROR(VLOOKUP(AE31,AF84:AR93,10,FALSE),"")
A36: 【ﾎ．所在地】 | K36: =IFERROR(VLOOKUP(AE31,AF84:AR93,11,FALSE),"")
A37: 【ﾍ．電話番号】 | K37: =IFERROR(VLOOKUP(AE31,AF84:AR93,12,FALSE),"")
A38: 【ﾄ．作成又は確認した設計図書】 | K38: =IFERROR(VLOOKUP(AE31,AF84:AR93,13,FALSE),"")
A40: 【ｲ．資格】 | K40: ( | L40: =IFERROR(VLOOKUP(AE40,AF84:AS93,2,FALSE),"") | O40: )建築士( | R40: =IFERROR(VLOOKUP(AE40,AF84:AR93,3,FALSE),"") | U40: ）登録第 | X40: =IFERROR(VLOOKUP(AE40,AF84:AR93,4,FALSE),"") | AC40: 号
A41: 【ﾛ．氏名】 | K41: =IFERROR(VLOOKUP(AE40,AF84:AR93,5,FALSE),"")
A42: 【ﾊ．建築士事務所名】 | K42: ( | L42: =IFERROR(VLOOKUP(AE40,AF84:AS93,6,FALSE),"") | N42: )建築士事務所( | S42: =IFERROR(VLOOKUP(AE40,AF84:AR93,7,FALSE),"") | U42: )知事登録第 | Y42: =IFERROR(VLOOKUP(AE40,AF84:AR93,8,FALSE),"") | AC42: 号
K43: =IFERROR(VLOOKUP(AE40,AF84:AR93,9,FALSE),"")
A44: 【ﾆ．郵便番号】 | K44: =IFERROR(VLOOKUP(AE40,AF84:AR93,10,FALSE),"")
...

Sheet 第二面-2
A1: (構造設計一級建築士又は設備設計一級建築士である旨の表示をした者)
A2: 上記の設計者のうち、
A3: =IF(M4<>"","■","□") -> □ | B3: 建築士法第20条の２第１項の表示をした者
A4: 【ｲ．氏名】 | M4: =IFERROR(VLOOKUP(AE4,AF81:AR90,5,FALSE),"")
A5: 【ﾛ．資格】 構造設計一級建築士交付 | M5: 第 | N5: =IFERROR(VLOOKUP(AE4,AF81:AS90,14,FALSE),"") | V5: 号
A6: =IF(M7<>"","■","□") -> □ | B6: 建築士法第20条の２第３項の表示をした者
A7: 【ｲ．氏名】 | M7: =IFERROR(VLOOKUP(AE7,AF81:AR90,5,FALSE),"")
A8: 【ﾛ．資格】 構造設計一級建築士交付 | M8: 第 | N8: =IFERROR(VLOOKUP(AE7,AF81:AS90,14,FALSE),"") | V8: 号
A9: =IF(OR(M10<>"",M12<>"",M14<>""),"■","□") -> □ | B9: 建築士法第20条の３第１項の表示をした者
A10: 【ｲ．氏名】 | M10: =IFERROR(VLOOKUP(AE10,AF81:AR90,5,FALSE),"")
A11: 【ﾛ．資格】 設備設計一級建築士交付 | M11: 第 | N11: =IFERROR(VLOOKUP(AE10,AF81:AS90,14,FALSE),"") | V11: 号
A12: 【ｲ．氏名】 | M12: =IFERROR(VLOOKUP(AE12,AF81:AR90,5,FALSE),"")
A13: 【ﾛ．資格】 設備設計一級建築士交付 | M13: 第 | N13: =IFERROR(VLOOKUP(AE12,AF81:AS90,14,FALSE),"") | V13: 号
A14: 【ｲ．氏名】 | M14: =IFERROR(VLOOKUP(AE14,AF81:AR90,5,FALSE),"")
A15: 【ﾛ．資格】 設備設計一級建築士交付 | M15: 第 | N15: =IFERROR(VLOOKUP(AE14,AF81:AS90,14,FALSE),"") | V15: 号
A16: =IF(OR(M17<>"",M19<>"",M21<>""),"■","□") -> □ | B16: 建築士法第20条の３第３項の表示をした者
A17: 【ｲ．氏名】 | M17: =IFERROR(VLOOKUP(AE17,AF81:AR90,5,FALSE),"")
A18: 【ﾛ．資格】 設備設計一級建築士交付 | M18: 第 | N18: =IFERROR(VLOOKUP(AE17,AF81:AS90,14,FALSE),"") | V18: 号
A19: 【ｲ．氏名】 | M19: =IFERROR(VLOOKUP(AE19,AF81:AR90,5,FALSE),"")
A20: 【ﾛ．資格】 設備設計一級建築士交付 | M20: 第 | N20: =IFERROR(VLOOKUP(AE19,AF81:AS90,14,FALSE),"") | V20: 号
A21: 【ｲ．氏名】 | M21: =IFERROR(VLOOKUP(AE21,AF81:AR90,5,FALSE),"")
A22: 【ﾛ．資格】 設備設計一級建築士交付 | M22: 第 | N22: =IFERROR(VLOOKUP(AE21,AF81:AS90,14,FALSE),"") | V22: 号
A23: 【4．建築設備の設計に関し意見を聴いた者】
A24: （代表となる建築設備の設計に関し意見を聴いた者）
A25: 【ｲ．氏名】 | K25: =IFERROR(VLOOKUP(AE25,AF81:AR90,5,FALSE),"")
A26: 【ﾛ．勤務先】 | K26: =IFERROR(VLOOKUP(AE25,AF81:AR90,9,FALSE),"")
A27: 【ﾊ．郵便番号】 | K27: =IFERROR(VLOOKUP(AE25,AF81:AR90,10,FALSE),"")
A28: 【ﾆ．所在地】 | K28: =IFERROR(VLOOKUP(AE25,AF81:AR90,11,FALSE),"")
A29: 【ﾎ．電話番号】 | K29: =IFERROR(VLOOKUP(AE25,AF81:AR90,12,FALSE),"")
A30: 【ﾍ．登録番号】 | K30: =IFERROR(VLOOKUP(AE25,AF81:AS90,14,FALSE),"")
A31: 【ﾄ．意見を聴いた設計図書】 | K31: =IFERROR(VLOOKUP(AE25,AF81:AR90,13,FALSE),"")
A32: （その他の建築設備の設計に関し意見を聴いた者）
A33: 【ｲ．氏名】 | K33: =IFERROR(VLOOKUP(AE33,AF81:AR90,5,FALSE),"")
A34: 【ﾛ．勤務先】 | K34: =IFERROR(VLOOKUP(AE33,AF81:AR90,9,FALSE),"")
A35: 【ﾊ．郵便番号】 | K35: =IFERROR(VLOOKUP(AE33,AF81:AR90,10,FALSE),"")
A36: 【ﾆ．所在地】 | K36: =IFERROR(VLOOKUP(AE33,AF81:AR90,11,FALSE),"")
A37: 【ﾎ．電話番号】 | K37: =IFERROR(VLOOKUP(AE33,AF81:AR90,12,FALSE),"")
A38: 【ﾍ．登録番号】 | K38: =IFERROR(VLOOKUP(AE33,AF81:AS90,14,FALSE),"")
A39: 【ﾄ．意見を聴いた設計図書】 | K39: =IFERROR(VLOOKUP(AE33,AF81:AR90,13,FALSE),"")
A40: 【ｲ．氏名】 | K40: =IFERROR(VLOOKUP(AE40,AF81:AR90,5,FALSE),"")
...

Sheet 第二面-3
A1: 【5．工事監理者】
A2: （代表となる工事監理者）
A3: 【ｲ．資格】 | K3: ( | L3: =IFERROR(VLOOKUP(AE3,AF82:AR91,2,FALSE),"") | O3: )建築士( | R3: =IFERROR(VLOOKUP(AE3,AF82:AR91,3,FALSE),"") | U3: ）登録第 | X3: =IFERROR(VLOOKUP(AE3,AF82:AR91,4,FALSE),"") | AC3: 号
A4: 【ﾛ．氏名】 | K4: =IFERROR(VLOOKUP(AE3,AF81:AR91,5,FALSE),"")
A5: 【ﾊ．建築士事務所名】 | K5: ( | L5: =IFERROR(VLOOKUP(AE3,AF82:AR91,6,FALSE),"") | N5: )建築士事務所( | S5: =IFERROR(VLOOKUP(AE3,AF82:AR91,7,FALSE),"") | U5: )知事登録第 | Y5: =IFERROR(VLOOKUP(AE3,AF82:AR91,8,FALSE),"") | AC5: 号
K6: =IFERROR(VLOOKUP(AE3,AF82:AR91,9,FALSE),"")
A7: 【ﾆ．郵便番号】 | K7: =IFERROR(VLOOKUP(AE3,AF82:AR91,10,FALSE),"")
A8: 【ﾎ．所在地】 | K8: =IFERROR(VLOOKUP(AE3,AF82:AR91,11,FALSE),"")
A9: 【ﾍ．電話番号】 | K9: =IFERROR(VLOOKUP(AE3,AF82:AR91,12,FALSE),"")
A10: 【ﾄ．工事と照合する設計図書】 | K10: =IFERROR(VLOOKUP(AE3,AF82:AR91,13,FALSE),"")
A11: （その他の工事監理者）
A12: 【ｲ．資格】 | K12: ( | L12: =IFERROR(VLOOKUP(AE12,AF82:AR91,2,FALSE),"") | O12: )建築士( | R12: =IFERROR(VLOOKUP(AE12,AF82:AR91,3,FALSE),"") | U12: ）登録第 | X12: =IFERROR(VLOOKUP(AE12,AF82:AR91,4,FALSE),"") | AC12: 号
A13: 【ﾛ．氏名】 | K13: =IFERROR(VLOOKUP(AE12,AF82:AR91,5,FALSE),"")
A14: 【ﾊ．建築士事務所名】 | K14: ( | L14: =IFERROR(VLOOKUP(AE12,AF82:AR91,6,FALSE),"") | N14: )建築士事務所( | S14: =IFERROR(VLOOKUP(AE12,AF82:AR91,7,FALSE),"") | U14: )知事登録第 | Y14: =IFERROR(VLOOKUP(AE12,AF82:AR91,8,FALSE),"") | AC14: 号
K15: =IFERROR(VLOOKUP(AE12,AF82:AR91,9,FALSE),"")
A16: 【ﾆ．郵便番号】 | K16: =IFERROR(VLOOKUP(AE12,AF82:AR91,10,FALSE),"")
A17: 【ﾎ．所在地】 | K17: =IFERROR(VLOOKUP(AE12,AF82:AR91,11,FALSE),"")
A18: 【ﾍ．電話番号】 | K18: =IFERROR(VLOOKUP(AE12,AF82:AR91,12,FALSE),"")
A19: 【ﾄ．工事と照合する設計図書】 | K19: =IFERROR(VLOOKUP(AE12,AF82:AR91,13,FALSE),"")
A20: 【ｲ．資格】 | K20: ( | L20: =IFERROR(VLOOKUP(AE20,AF82:AR91,2,FALSE),"") | O20: )建築士( | R20: =IFERROR(VLOOKUP(AE20,AF82:AR91,3,FALSE),"") | U20: ）登録第 | X20: =IFERROR(VLOOKUP(AE20,AF82:AR91,4,FALSE),"") | AC20: 号
A21: 【ﾛ．氏名】 | K21: =IFERROR(VLOOKUP(AE20,AF82:AR91,5,FALSE),"")
A22: 【ﾊ．建築士事務所名】 | K22: ( | L22: =IFERROR(VLOOKUP(AE20,AF82:AR91,6,FALSE),"") | N22: )建築士事務所( | S22: =IFERROR(VLOOKUP(AE20,AF82:AR91,7,FALSE),"") | U22: )知事登録第 | Y22: =IFERROR(VLOOKUP(AE20,AF82:AR91,8,FALSE),"") | AC22: 号
K23: =IFERROR(VLOOKUP(AE20,AF82:AR91,9,FALSE),"")
A24: 【ﾆ．郵便番号】 | K24: =IFERROR(VLOOKUP(AE20,AF82:AR91,10,FALSE),"")
A25: 【ﾎ．所在地】 | K25: =IFERROR(VLOOKUP(AE20,AF82:AR91,11,FALSE),"")
A26: 【ﾍ．電話番号】 | K26: =IFERROR(VLOOKUP(AE20,AF82:AR91,12,FALSE),"")
A27: 【ﾄ．工事と照合する設計図書】 | K27: =IFERROR(VLOOKUP(AE20,AF82:AR91,13,FALSE),"")
A28: 【ｲ．資格】 | K28: ( | L28: =IFERROR(VLOOKUP(AE28,AF82:AR91,2,FALSE),"") | O28: )建築士( | R28: =IFERROR(VLOOKUP(AE28,AF82:AR91,3,FALSE),"") | U28: ）登録第 | X28: =IFERROR(VLOOKUP(AE28,AF82:AR91,4,FALSE),"") | AC28: 号
A29: 【ﾛ．氏名】 | K29: =IFERROR(VLOOKUP(AE28,AF82:AR91,5,FALSE),"")
A30: 【ﾊ．建築士事務所名】 | K30: ( | L30: =IFERROR(VLOOKUP(AE28,AF82:AR91,6,FALSE),"") | N30: )建築士事務所( | S30: =IFERROR(VLOOKUP(AE28,AF82:AR91,7,FALSE),"") | U30: )知事登録第 | Y30: =IFERROR(VLOOKUP(AE28,AF82:AR91,8,FALSE),"") | AC30: 号
K31: =IFERROR(VLOOKUP(AE28,AF82:AR91,9,FALSE),"")
A32: 【ﾆ．郵便番号】 | K32: =IFERROR(VLOOKUP(AE28,AF82:AR91,10,FALSE),"")
A33: 【ﾎ．所在地】 | K33: =IFERROR(VLOOKUP(AE28,AF82:AR91,11,FALSE),"")
A34: 【ﾍ．電話番号】 | K34: =IFERROR(VLOOKUP(AE28,AF82:AR91,12,FALSE),"")
A35: 【ﾄ．工事と照合する設計図書】 | K35: =IFERROR(VLOOKUP(AE28,AF82:AR91,13,FALSE),"")
A36: 【6．工事施工者】
A37: 【ｲ．氏名】
A38: 【ﾛ．営業所名】建設業の許可 | K38: ( | P38: ) | T38: 第 | AC38: 号
A40: 【ﾊ．郵便番号】
A41: 【ﾆ．所在地】
...

Sheet 第三面
A1: ■確認申請書（建築物）
A2: (第三面）
A3: 建築物及びその敷地に関する事項
A4: 【1．地名地番】
A5: 【2．住居表示】
A6: 【3．都市計画区域及び準都市計画区域の内外の別等】
D7: □ | E7: 都市計画区域内 | J7: ( | K7: □ | L7: 市街化区域 | P7: □ | Q7: 市街化調整区域 | V7: □ | W7: 区域区分非設定)
D8: □ | E8: 準都市計画区域内 | K8: □ | L8: 都市計画区域及び準都市計画区域外
A9: 【4．防火地域】 | K9: □ | L9: 防火地域 | P9: □ | Q9: 準防火地域 | V9: □ | W9: 指定なし
A10: 【5．その他の区域、地域、地区又は街区】
A12: 【6．道路】
A13: 【ｲ．幅員】 | S13: ｍ
A14: 【ﾛ．敷地と接している部分の長さ】 | S14: ｍ
A15: 【7．敷地面積】
A16: 【ｲ．敷地面積】 | G16: （1） | I16: （ | M16: =IF(J16="","","㎡") | N16: )( | R16: =IF(O16="","","㎡") | S16: )( | W16: =IF(T16="","","㎡") | X16: )( | AB16: =IF(Y16="","","㎡") | AC16: ）
G17: （2） | I17: （ | M17: =IF(J17="","","㎡") | N17: )( | R17: =IF(O17="","","㎡") | S17: )( | W17: =IF(T17="","","㎡") | X17: )( | AB17: =IF(Y17="","","㎡") | AC17: ）
A18: 【ﾛ．用途地域等】 | I18: （ | N18: )( | S18: )( | X18: )( | AC18: ）
A19: 【ﾊ．建築基準法第５２条第１項及び第２項の規定による建築物の容積率】
I20: （ | M20: =IF(J20="","","%") | N20: )( | R20: =IF(O20="","","%") | S20: )( | W20: =IF(T20="","","%") | X20: )( | AB20: =IF(Y20="","","%") | AC20: ）
A21: 【ﾆ．建築基準法第５３条第１項の規定による建築物の建蔽率】
I22: （ | M22: =IF(J22="","","%") | N22: )( | R22: =IF(O22="","","%") | S22: )( | W22: =IF(T22="","","%") | X22: )( | AB22: =IF(Y22="","","%") | AC22: ）
A23: 【ﾎ．敷地面積の合計】 | H23: （1） | J23: =SUM(J16,O16,T16,Y16) -> 0 | M23: =IF(J23="","","㎡") -> ㎡
H24: （2） | J24: =IF(SUM(J17,O17,T17,Y17)=0,"",SUM(J17,O17,T17,Y17)) | M24: =IF(J24="","","㎡")
A25: 【ﾍ．敷地に建築可能な延べ面積を敷地面積で除した数値】 | V25: ％
A26: 【ﾄ．敷地に建築可能な建築面積を敷地面積で除した数値】 | V26: ％
A27: 【ﾁ．備考】
A28: 【8．主要用途】 | F28: （区分 | M28: ）
A29: 【9．工事種別】
C30: □ | D30: 新築 | F30: □ | G30: 増築 | I30: □ | J30: 改築 | L30: □ | M30: 移転 | O30: □ | P30: 用途変更 | S30: □ | T30: 大規模の修繕 | X30: □ | Y30: 大規模の模様替
A31: 【10．建築面積】 | I31: （ | J31: 申請部分 | O31: )( | P31: 申請以外の部分 | U31: )( | V31: 合計 | AA31: ）
A32: 【ｲ．建築面積】 | I32: （ | N32: =IF(J32="","","㎡") | O32: )( | T32: =IF(P32="","","㎡") | U32: )( | V32: =J32+P32 -> 0 | AA32: ㎡）
A33: 【ﾛ．建蔽率の算定の基礎
D34: となる建築面積】 | I34: （ | N34: =IF(J34="","","㎡") | O34: )( | T34: =IF(P34="","","㎡") | U34: )( | V34: =J34+P34 -> 0 | AA34: ㎡）
A35: 【ﾊ．建蔽率】 | J35: =IFERROR(IF(AE35="切上",ROUNDUP(V32/SUM(J23,J24)*100,2),IF(AE35="切捨",ROUNDDOWN(V32/SUM(J23,J24)*100,2),IF(AE35="四捨五入",ROUND(V32/SUM(J23,J24)*100,2)))),"") | O35: ％ | AE35: 切上
A36: 【11．延べ面積】 | I36: （ | J36: 申請部分 | O36: )( | P36: 申請以外の部分 | U36: )( | V36: 合計 | AA36: ）
A37: 【ｲ．建築物全体】 | I37: （ | N37: =IF(J37="","","㎡") | O37: )( | T37: =IF(P37="","","㎡") | U37: )( | V37: =J37+P37 -> 0 | AA37: ㎡）
A38: 【ﾛ．地階の住宅又は老人ホーム等の部分】
I39: （ | N39: =IF(J39="","","㎡") | O39: )( | T39: =IF(P39="","","㎡") | U39: )( | V39: =IF(J39="","",J39+P39) | AA39: =IF(V39=""," ）","㎡）") -> ）
A40: 【ﾊ．エレベーターの昇降路の部分】
I41: （ | N41: =IF(J41="","","㎡") | O41: )( | T41: =IF(P41="","","㎡") | U41: )( | V41: =IF(J41="","",J41+P41) | AA41: =IF(V41=""," ）","㎡）") -> ）
...

Sheet 第三面-2
A1: 【ﾜ．住宅の部分】 | I1: （ | N1: =IF(J1="","","㎡") | O1: )( | T1: =IF(P1="","","㎡") | U1: )( | V1: =IF(J1="","",J1+P1) | AA1: =IF(V1=""," ）","㎡）") -> ）
A2: 【ｶ．老人ホーム等の部分】 | I2: （ | N2: =IF(J2="","","㎡") | O2: )( | T2: =IF(P2="","","㎡") | U2: )( | V2: =IF(J2="","",J2+P2) | AA2: =IF(V2=""," ）","㎡）") -> ）
A3: 【ﾖ．延べ面積】 | O3: ㎡
A4: 【ﾀ．容積率】 | J4: =IFERROR(IF(AE4="切上",ROUNDUP(J3/SUM(第三面!J23,第三面!J24)*100,2),IF(AE4="切捨",ROUNDDOWN(J3/SUM(第三面!J23,第三面!J24)*100,2),IF(AE4="四捨五入",ROUND(J3/SUM(第三面!J23,第三面!J24)*100,2)))),"") | O4: ％ | AE4: 切上
A5: 【12．建築物の数】
A6: 【ｲ．申請に係る建築物の数】
A7: 【ﾛ．同一敷地内の他の建築物の数】
A8: 【13．建築物の高さ等】 | I8: （ | J8: 申請に係る建築物 | O8: )( | P8: 他の建築物 | U8: ）
A9: 【ｲ．最高の高さ】 | I9: （ | N9: ｍ | O9: )( | T9: =IF(P9="","","ｍ") | U9: ）
A10: 【ﾛ．階数】 | G10: 地上 | I10: （ | N10: =IF(J10="","","階") | O10: )( | T10: =IF(P10="","","階") | U10: ）
G11: 地下 | I11: （ | N11: =IF(J11="","","階") | O11: )( | T11: =IF(P11="","","階") | U11: ）
A12: 【ﾊ．構造】 | J12: 鉄骨 | Q12: 造 一部 | Z12: 造
A13: 【ﾆ．建築基準法第５６条第７項の規定による特例の適用の有無】 | T13: =IF(OR(D15="■",K15="■",R15="■"),"■","□") -> □ | U13: 有 | V13: =IF(T13="■","□","■") -> ■ | W13: 無
A14: 【ﾎ．適用があるときは、特例の区分】
D15: □ | E15: 道路高さ制限不適用 | K15: □ | L15: 隣地高さ制限不適用 | R15: □ | S15: 北側高さ制限不適用
A16: 【14．許可・認定等】
A20: 【15．工事着手予定年月日】 | I20: 令和 | K20: =IF(AF20="","",IF(AF20<43831,TEXT(AF20,"元"),(YEAR(AF20)-2018))) | L20: 年 | M20: =IF(AF20="","",MONTH(AF20)) | N20: 月 | O20: =IF(AF20="","",DAY(AF20)) | P20: 日 | AE20: ←
A22: 【16．工事完了予定年月日】 | I22: 令和 | K22: =IF(AF22="","",IF(AF22<43831,TEXT(AF22,"元"),(YEAR(AF22)-2018))) | L22: 年 | M22: =IF(AF22="","",MONTH(AF22)) | N22: 月 | O22: =IF(AF22="","",DAY(AF22)) | P22: 日 | AE22: ←
A24: 【17．特定工程工事終了予定年月日】 （特定工程） | O24: ( | P24: 特定工程 | AC24: ）
C25: （第 | D25: =IF(AF25<>"","1","") | E25: 回） | G25: 令和 | I25: =IF(AF25="","",IF(AF25<43831,TEXT(AF25,"元"),(YEAR(AF25)-2018))) | J25: 年 | K25: =IF(AF25="","",MONTH(AF25)) | L25: 月 | M25: =IF(AF25="","",DAY(AF25)) | N25: 日 | O25: ( | AC25: ） | AE25: ←
C26: （第 | D26: =IF(AF26<>"","2","") | E26: 回） | G26: 令和 | I26: =IF(AF26="","",IF(AF26<43831,TEXT(AF26,"元"),(YEAR(AF26)-2018))) | J26: 年 | K26: =IF(AF26="","",MONTH(AF26)) | L26: 月 | M26: =IF(AF26="","",DAY(AF26)) | N26: 日 | O26: ( | AC26: ） | AE26: ←
C27: （第 | D27: =IF(AF27<>"","3","") | E27: 回） | G27: 令和 | I27: =IF(AF27="","",IF(AF27<43831,TEXT(AF27,"元"),(YEAR(AF27)-2018))) | J27: 年 | K27: =IF(AF27="","",MONTH(AF27)) | L27: 月 | M27: =IF(AF27="","",DAY(AF27)) | N27: 日 | O27: ( | AC27: ） | AE27: ←
A29: 【18.その他必要な事項】
A32: 【19．備考】
AF33: ↓ 特定工程を新しく追加する場合は、下記ボックスに記入して選択してください。
AE34: 1 | AF34: 1階の鉄骨その他の構造部材の建て方工事
AE35: 2
A42: 0
A43: 1 | P43: 特定工程
A44: 2 | P44: 基礎配筋完了時 | AE44: 共通
A45: 3 | P45: 屋根工事完了時 | AE45: 東京：木造
A46: 4 | P46: 1階の鉄骨その他の構造部材の建て方完了時 | AE46: 東京：Ｓ造
A47: 5 | P47: 2階の床及びこれを支持する梁の配筋工事完了時 | AE47: 共通
A48: 6 | P48: 2階の床完了時 | AE48: 東京
A49: 7 | P49: 最下階から２つ目の床版配筋完了時 | AE49: 横浜市：ＲＣ造
A50: 8 | P50: 基礎と躯体緊結完了時 | AE50: 横浜市：認証、混構造
A51: 9 | P51: 全軸組緊結完了時 | AE51: 横浜市：木造（軸組）
A52: 10 | P52: 小屋組完了時 | AE52: 横浜市：木造（枠組）
A53: 11 | P53: =IF(AF34<>"",AF34,"") -> 1階の鉄骨その他の構造部材の建て方工事
A54: 12 | P54: =IF(AF35<>"",AF35,"")
...

Sheet 第四面
A1: （第四面）
A2: 建築物別概要
A3: 【1.番号】 | G3: 1
A4: 【2.用途】 | F4: （区分 | L4: ）
F5: （区分 | L5: ）
F6: （区分 | L6: ）
F7: （区分 | L7: ）
F8: （区分 | L8: ）
A9: 【3.工事種別】
C10: □ | D10: 新築 | F10: □ | G10: 増築 | I10: □ | J10: 改築 | L10: □ | M10: 移転 | O10: □ | P10: 用途変更 | S10: □ | T10: 大規模の修繕 | X10: □ | Y10: 大規模の模様替
A11: 【4.構造】 | L11: 造 一部 | U11: 造
A12: 【5.主要構造部】
C13: □ | D13: 耐火構造（防火上及び避難上支障がない主要構造部を有しない場合）
C14: □ | D14: 耐火構造（防火上及び避難上支障がない主要構造部を有する場合）
C15: □ | D15: 建築基準法施行令第１０８条の4第１項第１号イ及びロに掲げる基準に適合する構造
C16: □ | D16: 準耐火構造
C17: □ | D17: 準耐火構造と同等の準耐火性能を有する構造（ロ－１）
C18: □ | D18: 準耐火構造と同等の準耐火性能を有する構造（ロ－２）
C19: □ | D19: その他
A20: 【6.建築基準法第２１条及び第２７条の規定の適用】
C21: □ | D21: 建築基準法施行令第１０９条の５第１号に掲げる基準に適合する構造
C22: □ | D22: 建築基準法第２１条第１項ただし書きに該当する建築物
C23: □ | D23: 建築基準法施行令第１０９条の７第１項第１号に掲げる基準に適合する構造
C24: □ | D24: 建築基準法施行令第１１０条第１号に掲げる基準に適合する構造
C25: □ | D25: その他
C26: □ | D26: 建築基準法２１条又は第２７条の規定の適用を受けない
A27: 【7.建築基準法第６１条の規定の適用】
C28: □ | D28: 耐火建築物 | I28: □ | J28: 延焼防止建築物 | P28: □ | Q28: 準耐火建築物 | W28: □ | X28: 準延焼防止建築物
C29: □ | D29: その他 | I29: □ | J29: 建築基準法第６１条の規定の適用を受けない
A30: 【8.階数】
A31: 【イ.地階を除く階数】 | L31: 階
A32: 【ロ.地階の階数】 | L32: 階
A33: 【ハ.昇降機塔等の階の数】 | L33: 階
A34: 【ニ.地階の倉庫等の階の数】 | L34: 階
A35: 【9.高さ】
A36: 【イ.最高の高さ】 | L36: ｍ
A37: 【ロ.最高の軒の高さ】 | L37: ｍ
A38: 【10.建築設備の種類】 | AW38: ページ切り替えライン
A40: 【11.確認の特例】
A41: 【イ.建築基準法第6条の3第1項ただし書又は法第18条第５項ただし書の規定による審査の特例の適用の有無】
...

Sheet 第四面-2
A1: （第四面）
A2: 建築物別概要
A3: 【1.番号】
A4: 【2.用途】 | F4: （区分 | L4: ）
F5: （区分 | L5: ）
F6: （区分 | L6: ）
F7: （区分 | L7: ）
F8: （区分 | L8: ）
A9: 【3.工事種別】
C10: □ | D10: 新築 | F10: □ | G10: 増築 | I10: □ | J10: 改築 | L10: □ | M10: 移転 | O10: □ | P10: 用途変更 | S10: □ | T10: 大規模の修繕 | X10: □ | Y10: 大規模の模様替
A11: 【4.構造】 | L11: 造 一部 | U11: 造
A12: 【5.主要構造部】
C13: □ | D13: 耐火構造（防火上及び避難上支障がない主要構造部を有しない場合）
C14: □ | D14: 耐火構造（防火上及び避難上支障がない主要構造部を有する場合）
C15: □ | D15: 建築基準法施行令第１０８条の4第１項第１号イ及びロに掲げる基準に適合する構造
C16: □ | D16: 準耐火構造
C17: □ | D17: 準耐火構造と同等の準耐火性能を有する構造（ロ－１）
C18: □ | D18: 準耐火構造と同等の準耐火性能を有する構造（ロ－２）
C19: □ | D19: その他
A20: 【6.建築基準法第２１条及び第２７条の規定の適用】
C21: □ | D21: 建築基準法施行令第１０９条の５第１号に掲げる基準に適合する構造
C22: □ | D22: 建築基準法第２１条第１項ただし書きに該当する建築物
C23: □ | D23: 建築基準法施行令第１０９条の７第１項第１号に掲げる基準に適合する構造
C24: □ | D24: 建築基準法施行令第１１０条第１号に掲げる基準に適合する構造
C25: □ | D25: その他
C26: □ | D26: 建築基準法２１条又は第２７条の規定の適用を受けない
A27: 【7.建築基準法第６１条の規定の適用】
C28: □ | D28: 耐火建築物 | I28: □ | J28: 延焼防止建築物 | P28: □ | Q28: 準耐火建築物 | W28: □ | X28: 準延焼防止建築物
C29: □ | D29: その他 | I29: □ | J29: 建築基準法第６１条の規定の適用を受けない
A30: 【8.階数】
A31: 【イ.地階を除く階数】 | L31: 階
A32: 【ロ.地階の階数】 | L32: 階
A33: 【ハ.昇降機塔等の階の数】 | L33: 階
A34: 【ニ.地階の倉庫等の階の数】 | L34: 階
A35: 【9.高さ】
A36: 【イ.最高の高さ】 | L36: ｍ
A37: 【ロ.最高の軒の高さ】 | L37: ｍ
A38: 【10.建築設備の種類】 | AW38: ページ切り替えライン
A40: 【11.確認の特例】
A41: 【イ.建築基準法第6条の3第1項ただし書又は法第18条第５項ただし書の規定による審査の特例の適用の有無】
...

Sheet 第五面
A1: （第五面）
A2: 建築物の階別概要
A3: 【1．番号】 | E3: 1
A4: 【2．階】 | H4: 階
A5: 【3．柱の小径】 | L5: ｍｍ
A6: 【4．横架材間の垂直距離】 | L6: ｍｍ
A7: 【5．階の高さ】 | L7: ｍｍ
A8: 【6．天井】
A9: 【ｲ.居室の天井の高さ】 | L9: ｍｍ
A10: 【ﾛ.建築基準法施行令第39条第3項に規定する特定天井】 | S10: □ | T10: 有 | V10: =IF(S10="■","□","■") -> ■ | W10: 無
A11: 【7．用途別床面積】
E12: （ | F12: 用途の区分 | K12: )( | L12: 具体的な用途の名称 | T12: )( | U12: 床面積 | Z12: )
A13: 【ｲ.】 | E13: （ | K13: )( | T13: )( | Z13: ㎡)
A14: 【ﾛ.】 | E14: （ | K14: )( | T14: )( | Z14: ㎡)
A15: 【ﾊ.】 | E15: （ | K15: )( | T15: )( | Z15: ㎡)
A16: 【ﾆ.】 | E16: （ | K16: )( | T16: )( | Z16: ㎡)
A17: 【ﾎ.】 | E17: （ | K17: )( | T17: )( | Z17: ㎡)
A18: 【ﾍ.】 | E18: （ | K18: )( | T18: )( | Z18: ㎡)
A19: 【8．その他必要な事項】
A20: 【9．備考】
A23: （第五面）
A24: 建築物の階別概要
A25: 【1．番号】
A26: 【2．階】 | H26: 階
A27: 【3．柱の小径】 | L27: ｍｍ
A28: 【4．横架材間の垂直距離】 | L28: ｍｍ
A29: 【5．階の高さ】 | L29: ｍｍ
A30: 【6．天井】
A31: 【ｲ.居室の天井の高さ】 | L31: ｍｍ
A32: 【ﾛ.建築基準法施行令第39条第3項に規定する特定天井】 | S32: □ | T32: 有 | V32: =IF(S32="■","□","■") -> ■ | W32: 無
A33: 【7．用途別床面積】
E34: （ | F34: 用途の区分 | K34: )( | L34: 具体的な用途の名称 | T34: )( | U34: 床面積 | Z34: )
A35: 【ｲ.】 | E35: （ | K35: )( | T35: )( | Z35: ㎡)
A36: 【ﾛ.】 | E36: （ | K36: )( | T36: )( | Z36: ㎡)
A37: 【ﾊ.】 | E37: （ | K37: )( | T37: )( | Z37: ㎡)
A38: 【ﾆ.】 | E38: （ | K38: )( | T38: )( | Z38: ㎡)
A39: 【ﾎ.】 | E39: （ | K39: )( | T39: )( | Z39: ㎡)
A40: 【ﾍ.】 | E40: （ | K40: )( | T40: )( | Z40: ㎡)
A41: 【8．その他必要な事項】
A42: 【9．備考】

Sheet 第五面-2
A1: （第五面）
A2: 建築物の階別概要
A3: 【1．番号】
A4: 【2．階】 | H4: 階
A5: 【3．柱の小径】 | L5: ｍｍ
A6: 【4．横架材間の垂直距離】 | L6: ｍｍ
A7: 【5．階の高さ】 | L7: ｍｍ
A8: 【6．天井】
A9: 【ｲ.居室の天井の高さ】 | L9: ｍｍ
A10: 【ﾛ.建築基準法施行令第39条第3項に規定する特定天井】 | S10: □ | T10: 有 | V10: =IF(S10="■","□","■") -> ■ | W10: 無
A11: 【7．用途別床面積】
E12: （ | F12: 用途の区分 | K12: )( | L12: 具体的な用途の名称 | T12: )( | U12: 床面積 | Z12: )
A13: 【ｲ.】 | E13: （ | K13: )( | T13: )( | Z13: ㎡)
A14: 【ﾛ.】 | E14: （ | K14: )( | T14: )( | Z14: ㎡)
A15: 【ﾊ.】 | E15: （ | K15: )( | T15: )( | Z15: ㎡)
A16: 【ﾆ.】 | E16: （ | K16: )( | T16: )( | Z16: ㎡)
A17: 【ﾎ.】 | E17: （ | K17: )( | T17: )( | Z17: ㎡)
A18: 【ﾍ.】 | E18: （ | K18: )( | T18: )( | Z18: ㎡)
A19: 【8．その他必要な事項】
A20: 【9．備考】
A23: （第五面）
A24: 建築物の階別概要
A25: 【1．番号】
A26: 【2．階】 | H26: 階
A27: 【3．柱の小径】 | L27: ｍｍ
A28: 【4．横架材間の垂直距離】 | L28: ｍｍ
A29: 【5．階の高さ】 | L29: ｍｍ
A30: 【6．天井】
A31: 【ｲ.居室の天井の高さ】 | L31: ｍｍ
A32: 【ﾛ.建築基準法施行令第39条第3項に規定する特定天井】 | S32: □ | T32: 有 | V32: =IF(S32="■","□","■") -> ■ | W32: 無
A33: 【7．用途別床面積】
E34: （ | F34: 用途の区分 | K34: )( | L34: 具体的な用途の名称 | T34: )( | U34: 床面積 | Z34: )
A35: 【ｲ.】 | E35: （ | K35: )( | T35: )( | Z35: ㎡)
A36: 【ﾛ.】 | E36: （ | K36: )( | T36: )( | Z36: ㎡)
A37: 【ﾊ.】 | E37: （ | K37: )( | T37: )( | Z37: ㎡)
A38: 【ﾆ.】 | E38: （ | K38: )( | T38: )( | Z38: ㎡)
A39: 【ﾎ.】 | E39: （ | K39: )( | T39: )( | Z39: ㎡)
A40: 【ﾍ.】 | E40: （ | K40: )( | T40: )( | Z40: ㎡)
A41: 【8．その他必要な事項】
A42: 【9．備考】

Sheet 第五面-3
A1: （第五面）
A2: 建築物の階別概要
A3: 【1．番号】
A4: 【2．階】 | H4: 階
A5: 【3．柱の小径】 | L5: ｍｍ
A6: 【4．横架材間の垂直距離】 | L6: ｍｍ
A7: 【5．階の高さ】 | L7: ｍｍ
A8: 【6．天井】
A9: 【ｲ.居室の天井の高さ】 | L9: ｍｍ
A10: 【ﾛ.建築基準法施行令第39条第3項に規定する特定天井】 | S10: □ | T10: 有 | V10: =IF(S10="■","□","■") -> ■ | W10: 無
A11: 【7．用途別床面積】
E12: （ | F12: 用途の区分 | K12: )( | L12: 具体的な用途の名称 | T12: )( | U12: 床面積 | Z12: )
A13: 【ｲ.】 | E13: （ | K13: )( | T13: )( | Z13: ㎡)
A14: 【ﾛ.】 | E14: （ | K14: )( | T14: )( | Z14: ㎡)
A15: 【ﾊ.】 | E15: （ | K15: )( | T15: )( | Z15: ㎡)
A16: 【ﾆ.】 | E16: （ | K16: )( | T16: )( | Z16: ㎡)
A17: 【ﾎ.】 | E17: （ | K17: )( | T17: )( | Z17: ㎡)
A18: 【ﾍ.】 | E18: （ | K18: )( | T18: )( | Z18: ㎡)
A19: 【8．その他必要な事項】
A20: 【9．備考】
A23: （第五面）
A24: 建築物の階別概要
A25: 【1．番号】
A26: 【2．階】 | H26: 階
A27: 【3．柱の小径】 | L27: ｍｍ
A28: 【4．横架材間の垂直距離】 | L28: ｍｍ
A29: 【5．階の高さ】 | L29: ｍｍ
A30: 【6．天井】
A31: 【ｲ.居室の天井の高さ】 | L31: ｍｍ
A32: 【ﾛ.建築基準法施行令第39条第3項に規定する特定天井】 | S32: □ | T32: 有 | V32: =IF(S32="■","□","■") -> ■ | W32: 無
A33: 【7．用途別床面積】
E34: （ | F34: 用途の区分 | K34: )( | L34: 具体的な用途の名称 | T34: )( | U34: 床面積 | Z34: )
A35: 【ｲ.】 | E35: （ | K35: )( | T35: )( | Z35: ㎡)
A36: 【ﾛ.】 | E36: （ | K36: )( | T36: )( | Z36: ㎡)
A37: 【ﾊ.】 | E37: （ | K37: )( | T37: )( | Z37: ㎡)
A38: 【ﾆ.】 | E38: （ | K38: )( | T38: )( | Z38: ㎡)
A39: 【ﾎ.】 | E39: （ | K39: )( | T39: )( | Z39: ㎡)
A40: 【ﾍ.】 | E40: （ | K40: )( | T40: )( | Z40: ㎡)
A41: 【8．その他必要な事項】
A42: 【9．備考】

Sheet 第六面
A1: （第六面）
A2: 建築物独立部分別概要
A3: 【1．番号】 | H3: 1
A4: 【2．延べ面積】 | N4: ㎡
A5: 【3．建築物の高さ等】
A6: 【ｲ．最高の高さ】 | N6: ｍ
A7: 【ﾛ．最高の軒の高さ】 | N7: ｍ
A8: 【ﾊ．階数】 | J8: 地上 | L8: （ | Q8: ） | R8: 地下 | T8: （ | Y8: ）
A9: 【ﾆ．構造】 | Q9: 造 一部 | Z9: 造
A11: 【4．特定構造計算基準又は特定増改築構造計算基準の別】
C12: □ | D12: 特定構造計算基準
C13: □ | D13: 特定増改築構造計算基準
A15: 【5．構造計算の区分】
C16: □ | D16: 建築基準法施行令第81条第１項各号に掲げる基準に従った構造計算
C17: □ | D17: 建築基準法施行令第81条第２項第１号イに掲げる構造計算
C18: □ | D18: 建築基準法施行令第81条第２項第１号ロに掲げる構造計算
C19: □ | D19: 建築基準法施行令第81条第２項第２号イに掲げる構造計算
C20: □ | D20: 建築基準法施行令第81条第３項に掲げる構造計算
A22: 【6．構造計算に用いたプログラム】
A23: 【ｲ．名称】 | F23: （ | Z23: ）
A24: 【ﾛ．区分】 | F24: □ | G24: 建築基準法第20条第１項第２号イ又は第３号イの認定を受けたプログラム
J25: （ | K25: 大臣認定番号 | Z25: ）
F26: □ | G26: その他のプログラム
A28: 【7．建築基準法施行令第137条の２各号に定める基準の区分】
F29: （ | Z29: ）
A31: 【8．備考】

Sheet 第六面-2
A1: （第六面）
A2: 建築物独立部分別概要
A3: 【1．番号】
A4: 【2．延べ面積】 | N4: ㎡
A5: 【3．建築物の高さ等】
A6: 【ｲ．最高の高さ】 | N6: ｍ
A7: 【ﾛ．最高の軒の高さ】 | N7: ｍ
A8: 【ﾊ．階数】 | J8: 地上 | L8: （ | Q8: ） | R8: 地下 | T8: （ | Y8: ）
A9: 【ﾆ．構造】 | Q9: 造 一部 | Z9: 造
A11: 【4．特定構造計算基準又は特定増改築構造計算基準の別】
C12: □ | D12: 特定構造計算基準
C13: □ | D13: 特定増改築構造計算基準
A15: 【5．構造計算の区分】
C16: □ | D16: 建築基準法施行令第81条第１項各号に掲げる基準に従った構造計算
C17: □ | D17: 建築基準法施行令第81条第２項第１号イに掲げる構造計算
C18: □ | D18: 建築基準法施行令第81条第２項第１号ロに掲げる構造計算
C19: □ | D19: 建築基準法施行令第81条第２項第２号イに掲げる構造計算
C20: □ | D20: 建築基準法施行令第81条第３項に掲げる構造計算
A22: 【6．構造計算に用いたプログラム】
A23: 【ｲ．名称】 | F23: （ | Z23: ）
A24: 【ﾛ．区分】 | F24: □ | G24: 建築基準法第20条第１項第２号イ又は第３号イの認定を受けたプログラム
J25: （ | K25: 大臣認定番号 | Z25: ）
F26: □ | G26: その他のプログラム
A28: 【7．建築基準法施行令第137条の２各号に定める基準の区分】
F29: （ | Z29: ）
A31: 【8．備考】

Sheet 第二面（主）
A1: （第二面）
A2: 別紙
A3: 【1．建築主2】
A4: 【ｲ．氏名のﾌﾘｶﾞﾅ】
A5: 【ﾛ．氏名】
A6: 【ﾊ．郵便番号】
A7: 【ﾆ．住所】
A8: 【ﾎ．電話番号】
A10: 【1．建築主3】
A11: 【ｲ．氏名のﾌﾘｶﾞﾅ】
A12: 【ﾛ．氏名】
A13: 【ﾊ．郵便番号】
... A43: 【ﾎ．電話番号】

Sheet 第二面（施）
A1: （第二面）
A2: 別紙
A3: 【6．工事施工者2】
A4: 【ｲ．氏名】
A5: 【ﾛ．営業所名】建設業の許可 | K5: ( | Q5: ) | U5: 第 | AC5: 号
A7: 【ﾊ．郵便番号】
A8: 【ﾆ．所在地】
A9: 【ﾎ．電話番号】
A11: 【6．工事施工者3】
A12: 【ｲ．氏名】
A13: 【ﾛ．営業所名】建設業の許可 | K13: ( | Q13: ) | U13: 第 | AC13: 号
A15: 【ﾊ．郵便番号】
A16: 【ﾆ．所在地】
A17: 【ﾎ．電話番号】
A19: 【6．工事施工者4】
A20: 【ｲ．氏名】
A21: 【ﾛ．営業所名】建設業の許可 | K21: ( | Q21: ) | U21: 第 | AC21: 号
A23: 【ﾊ．郵便番号】
A24: 【ﾆ．所在地】
A25: 【ﾎ．電話番号】
A27: 【6．工事施工者5】
A28: 【ｲ．氏名】
A29: 【ﾛ．営業所名】建設業の許可 | K29: ( | Q29: ) | U29: 第 | AC29: 号
A31: 【ﾊ．郵便番号】
A32: 【ﾆ．所在地】
A33: 【ﾎ．電話番号】
A35: 【6．工事施工者6】
A36: 【ｲ．氏名】
A37: 【ﾛ．営業所名】建設業の許可 | K37: ( | Q37: ) | U37: 第 | AC37: 号
A39: 【ﾊ．郵便番号】
A40: 【ﾆ．所在地】
A41: 【ﾎ．電話番号】
AC84: 大臣
AC85: 東京都知事
AC86: 神奈川県知事
AC87: 埼玉県知事
AC88: 千葉県知事
AC89: 群馬県知事
AC90: 栃木県知事
AC91: 茨城県知事
...

Sheet 注意
A2: （注意）
A4: １．各面共通関係
C5: 数字は算用数字を、単位はメートル法を用いてください。
A7: ２．第一面関係
C8: ※印のある欄は記入しないでください。
A10: ３．第二面関係
B11: 1) | C11: 建築主が２以上のときは、１欄は代表となる建築主について記入し、別紙に他の建築主についてそれぞれ必要な事項を記入して添えてください。
B12: 2) | C12: 建築主からの委任を受けて申請を行う者がいる場合においては、２欄に記入してください。
B13: 3) | C13: ２欄、３欄及び５欄は、代理者、設計者又は工事監理者が建築士事務所に属しているときは、その名称を書き、建築士事務所に属していないときは、所在地はそれぞれ代理者、設計者又は工事監理者の住所を書いてください。
B14: 4) | C14: ３欄の｢ト｣は、作成した又は建築士法第２０条の２第３項若しくは第２０条の３第３項の表示をした図書について記入してください。
B15: 5) | C15: ３欄、４欄及び５欄は、それぞれ代表となる設計者、建築設備の設計に関し意見を聴いた者及び工事監理者並びに申請に係る建築物に係る他のすべての設計者、建築設備の設計に関し意見を聴いた者及び工事監理者について記入してください。３欄の設計者のうち、構造設計一級建築士又は設備設計一級建築士である旨の表示をした者がいる場合は、該当するチェックボックスに｢レ｣マークを入れてください。記入欄が不足する場合には、別紙に必要な事項を記入して添えてください。
B16: 6) | C16: ４欄は、建築士法第２０条第５項に規定する場合（設計に係る場合に限る。）に、同項に定める資格を有する者について記入し、所在地は、その者が勤務しているときは勤務先の所在地を、勤務していないときはその者の住所を、登録番号は建築士法施行規則第１７条の３５第１項の規定による登録を受けている場合の当該登録番号を書いてください。
B17: 7) | C17: ５欄及び６欄は、それぞれ工事監理者又は工事施工者が未定のときは、後で定まってから工事着手前に届け出てください。
B18: 8) | C18: ６欄は、工事施工者が２以上のときは、代表となる工事施工者について記入し、別紙に他の工事施工者について棟別にそれぞれ必要な事項を記入して添えてください。
B19: 9) | C19: ７欄は、該当するチェックボックスに「レ」マークを入れ、申請済の場合には、申請をした都道府県名又は指定構造計算適合性判定機関の名称及び事務所の所在地を記入してください。未申請の場合には、申請する予定の都道府県名又は指定構造計算適合性判定機関の名称及び事務所の所在地を記入し、申請をした後に、遅滞なく、申請をした旨（申請先を変更した場合においては、申請をした都道府県名又は指定構造計算適合性判定機関の名称及び事務所の所在地を含む。）を届け出てください。なお、所在地については、○○県○○市、郡○○町、村、程度で結構です。
B20: 10) | C20: ８欄は、該当するチェックボックスに「レ」マークを入れ、提出済の場合には、提出をした所管行政庁名又は登録建築物エネルギー消費性能判定機関の名称及び事務所の所在地を記入してください。未提出の場合には、提出する予定の所管行政庁名又は登録建築物エネルギー消費性能判定機関の名称及び事務所の所在地を記入し、提出をした後に、遅滞なく、提出をした旨（提出先を変更した場合においては、提出をした所管行政庁名又は登録建築物エネルギー消費性能判定機関の名称及び事務所の所在地を含む。）を届け出てください。なお、所在地については、○○県○○市、郡○○町、村、程度で結構です。 また、提出不要の場合には、建築物のエネルギー消費性能の向上等に関する法律施行規則第2条第1項各号に掲げる特定建築行為のうち該当するものの号番号（同項第1号に該当する場合にあっては、号番号及び同号イ又はロのうち該当するもの（気候風土適応住宅に該当する場合にあっては、その旨を含む。））を記入する等、提出が不要である理由を記入してください。特に必要がある場合には、各階平面図等の図書によりその根拠を明らかにしてください。なお、建築に係る部分の床面積が10平方メートル以下である場合、建築基準法第６条の４第１項第３号に掲げる建築物の建築である場合その他の提出が不要であることが明らかな場合は、記入する必要はありません。
B21: 11） | C21: 建築物の名称又は工事名が定まっているときは、９欄に記入してください。
A23: ４．第三面関係
B24: 1) | C24: 住居表示が定まっているときは、２欄に記入してください。
B25: 2) | C25: ３欄は、該当するチェックボックスに「レ」マークを入れてください。ただし、建築物の敷地が都市計画区域、準都市計画区域又はこれらの区域以外の区域のうち２以上の区域にわたる場合においては、当該敷地の過半の属する区域について記入してください。なお、当該敷地が３の区域にわたる場合で、かつ、当該敷地の過半の属する区域がない場合においては、都市計画区域又は準都市計画区域のうち、当該敷地の属する面積が大きい区域について記入してください。
B26: 3) | C26: ４欄は、該当するチェックボックスに「レ」マークを入れてください。なお、建築物の敷地が防火地域、準防火地域又は指定のない区域のうち２以上の地域又は区域にわたるときは、それぞれの地域又は区域について記入してください。
B27: 4) | C27: ５欄は、建築物の敷地が存する３欄及び４欄に掲げる区域及び地域以外の区域、地域、地区又は街区を記入してください。なお、建築物の敷地が２以上の区域、地域、地区又は街区にわたる場合は、それぞれの区域、地域、地区又は街区を記入してください。
B28: 5) | C28: ６欄は、建築物の敷地が２メートル以上接している道路のうち最も幅員の大きなものについて記入してください。
B29: 6) | C29: ７欄の「イ」(1)は、建築物の敷地が、２以上の用途地域、高層住居誘導地区、居住環境向上用途誘導地区若しくは特定用途誘導地区、建築基準法第52条第１項第１号から第８号までに規定する容積率の異なる地域、地区若しくは区域又は同法第53条第１項第１号から第６号までに規定する建蔽率若しくは高層住居誘導地区に関する都市計画において定められた建築物の建蔽率の最高限度の異なる地域、地区若しくは区域（以下「用途地域が異なる地域等」という。）にわたる場合においては、用途地域が異なる地域等ごとに、それぞれの用途地域が異なる地域等に対応する敷地の面積を記入してください。 「イ」(2)は、同法第52条第12項の規定を適用する場合において、同条第13項の規定に基づき、「イ」(1)で記入した敷地面積に対応する敷地の部分について、建築物の敷地のうち前面道路と壁面線又は壁面の位置の制限として定められた限度の線との間の部分を除いた敷地の面積を記入してください。
B30: 7) | C30: ７欄の「ロ」、「ハ」及び「ニ」は、「イ」に記入した敷地面積に対応する敷地の部分について、それぞれ記入してください。
B31: 8) | C31: ７欄の「ホ」(1)は、「イ」(1)の合計とし、「ホ」(2)は、「イ」(2)の合計とします。
B32: 9) | C32: 建築物の敷地が、建築基準法第52条第７項若しくは第９項に該当する場合又は同条第８項若しくは第12項の規定が適用される場合においては、７欄の「ヘ」に、同条第７項若しくは第９項の規定に基づき定められる当該建築物の容積率又は同条第８項若しくは第12項の規定が適用される場合における当該建築物の容積率を記入してください。
B33: 10) | C33: 建築物の敷地について、建築基準法第５７条の２第４項の規定により現に特例容積率の限度が公告されているときは、７欄の「チ」にその旨及び当該特例容積率の限度を記入してください。
B34: 11) | C34: 建築物の敷地が建築基準法第53条第２項若しくは同法第57条の５第２項に該当する場合又は建築物が同法第53条第３項、第５項若しくは第６項に該当する場合においては、７欄の「ト」に、同条第２項、第３項、第５項又は第６項の規定に基づき定められる当該建築物の建蔽率を記入してください。
B35: 12) | C35: ８欄は、別紙の表の用途の区分に従い対応する記号を記入した上で、主要用途をできるだけ具体的に記入してください。
... B40: 17) | C40: 11欄の「ヨ」の延べ面積及び「タ」の容積率の算定の基礎となる延べ面積は、各階の床面積の合計から「ロ」に記入した床面積（この面積が敷地内の建築物の住宅及び老人ホーム、福祉ホームその他これらに類するものの用途に供する部分（エレベーターの昇降路の部分又は共同住宅若しくは老人ホーム、福祉ホームその他これらに類するものの共用の廊下若しくは階段の用に供する部分を除く。）の床面積の合計の３分の１を超える場合においては、敷地内の建築物の住宅及び老人ホーム、福祉ホームその他これらに類するものの用途に供する部分（エレベーターの昇降路の部分又は共同住宅若しくは老人ホーム、福祉ホームその他これらに類するものの共用の廊下若しくは階段の用に供する部分を除く。）の床面積の合計の３分の１の面積）、「ハ」から「ホ」までに記入した床面積、「ヘ」から「ル」までに記入した床面積（これらの面積が、次の(1)から(6)までに掲げる建築物の部分の区分に応じ、敷地内の建築物の各階の床面積の合計にそれぞれ(1)から(6)までに定める割合を乗じて得た面積を超える場合においては、敷地内の建築物の各階の床面積の合計にそれぞれ(1)から(6)までに定める割合を乗じて得た面積）及び「ヲ」に記入した床面積を除いた面積とします。また、建築基準法第52条第12項の規定を適用する場合においては、「タ」の容積率の算定の基礎となる敷地面積は、７欄「ホ」(2)によることとします。
C41: (1) 自動車車庫等の部分 ５分の１
C42: (2) 備蓄倉庫の部分 ５０分の１
C43: (3) 蓄電池の設置部分 ５０分の１
C44: (4) 自家発電設備の設置部分 １００分の１
C45: (5) 貯水槽の設置部分 １００分の１
C46: (6) 宅配ボックスの設置部分 １００分の１
B47: 18) | C47: １２欄の建築物の数は、延べ面積が１０平方メートルを超えるものについて記入してください。
B48: 19) | C48: １３欄の「イ」及び「ロ」は、申請に係る建築物又は同一敷地内の他の建築物がそれぞれ２以上ある場合においては、最大のものを記入してください。
B49: 20) | C49: １３欄の「ハ」は、敷地内の建築物の主たる構造について記入してください。
...

Sheet 概第一面
A1: 規則別記
A2: 第三号様式（第一条の三、第三条、第三条の三、第三条の四、第三条の七、第三条の十、第六条の三、第十一条の三関係）（Ａ４）
I4: ※受付欄 | J4: 株式会社 都市建築確認センター | T4: ※確認済証・番号
T5: =IF('第一面 (計変)'!AS2<>"",TEXT('第一面 (計変)'!AS2,"ggge年m月d日"),IF(第一面!AS2<>"",TEXT(第一面!AS2,"ggge年m月d日"),"令和 年 月 日")) -> 令和 年 月 日
T7: =IF('第一面 (計変)'!AS1<>"","第"&'第一面 (計変)'!B43&"号",IF(第一面!AS1<>"","第"&第一面!B42&"号",IF('第一面 (計変)'!T19<>"","第 "&'第一面 (計変)'!B43&" 号","第 "&第一面!B42&" 号"))) -> 第 TKC 建確 号
A10: 建築計画概要書（第一面）
A11: 建築主等の概要
A12: 【1．建築主】
B13: 【ｲ．氏名のﾌﾘｶﾞﾅ】 | H13: =IF(第二面!K4="","",第二面!K4)
B14: 【ﾛ．氏名】 | H14: =IF(第二面!K5="","",第二面!K5)
B15: 【ﾊ．郵便番号】 | I15: =IF(第二面!K6="","",第二面!K6)
B16: 【ﾆ．住所】 | H16: =IF(第二面!K7="","",第二面!K7)
A18: 【2．代理者】
B19: 【ｲ．資格】 | I19: ( | J19: =IF(第二面!L11="","",第二面!L11) | M19: )建築士( | P19: =IF(第二面!R11="","",第二面!R11) | T19: ）登録第 | W19: =IF(第二面!X11="","",第二面!X11) | AC19: 号
B20: 【ﾛ．氏名】 | H20: =IF(第二面!K12="","",第二面!K12)
B21: 【ﾊ．建築士事務所名】 ( | J21: =IF(第二面!L13="","",第二面!L13) | L21: )建築士事務所( | Q21: =IF(第二面!S13="","",第二面!S13) | T21: )知事登録第 | X21: =IF(第二面!Y13="","",第二面!Y13) | AC21: 号
H22: =IF(第二面!K14="","",第二面!K14)
B23: 【ﾆ．郵便番号】 | I23: =IF(第二面!K15="","",第二面!K15)
B24: 【ﾎ．所在地】 | H24: =IF(第二面!K16="","",第二面!K16)
B25: 【ﾍ．電話番号】 | H25: =IF(第二面!K17="","",第二面!K17)
A26: 【3．設計者】
B27: （代表となる設計者）
B28: 【ｲ．資格】 | I28: ( | J28: =IF(第二面!L21="","",第二面!L21) | M28: )建築士( | P28: =IF(第二面!R21="","",第二面!R21) | T28: ）登録第 | W28: =IF(第二面!X21="","",第二面!X21) | AC28: 号
B29: 【ﾛ．氏名】 | H29: =IF(第二面!K22="","",第二面!K22)
B30: 【ﾊ．建築士事務所名】 ( | J30: =IF(第二面!L23="","",第二面!L23) | L30: )建築士事務所( | Q30: =IF(第二面!S23="","",第二面!S23) | T30: )知事登録第 | X30: =IF(第二面!Y23="","",第二面!Y23) | AC30: 号
H31: =IF(第二面!K24="","",第二面!K24)
B32: 【ﾆ．郵便番号】 | I32: =IF(第二面!K25="","",第二面!K25)
B33: 【ﾎ．所在地】 | H33: =IF(第二面!K26="","",第二面!K26)
B34: 【ﾍ．電話番号】 | H34: =IF(第二面!K27="","",第二面!K27)
B35: 【ﾄ．作成又は確認した設計図書】 | L35: =IF(第二面!K28="","",第二面!K28)
B36: （その他の設計者）
B37: 【ｲ．資格】 | I37: ( | J37: =IF(第二面!L31="","",第二面!L31) | M37: )建築士( | P37: =IF(第二面!R31="","",第二面!R31) | T37: ）登録第 | W37: =IF(第二面!X31="","",第二面!X31) | AC37: 号
B38: 【ﾛ．氏名】 | H38: =IF(第二面!K32="","",第二面!K32)
B39: 【ﾊ．建築士事務所名】 ( | J39: =IF(第二面!L33="","",第二面!L33) | L39: )建築士事務所( | Q39: =IF(第二面!S33="","",第二面!S33) | T39: )知事登録第 | X39: =IF(第二面!Y33="","",第二面!Y33) | AC39: 号
H40: =IF(第二面!K34="","",第二面!K34)
B41: 【ﾆ．郵便番号】 | I41: =IF(第二面!K35="","",第二面!K35)
B42: 【ﾎ．所在地】 | H42: =IF(第二面!K36="","",第二面!K36)
B43: 【ﾍ．電話番号】 | H43: =IF(第二面!K37="","",第二面!K37)
B44: 【ﾄ．作成又は確認した設計図書】 | L44: =IF(第二面!K38="","",第二面!K38)
B45: 【ｲ．資格】 | I45: ( | J45: =IF(第二面!L40="","",第二面!L40) | M45: )建築士( | P45: =IF(第二面!R40="","",第二面!R40) | T45: ）登録第 | W45: =IF(第二面!X40="","",第二面!X40) | AC45: 号
...

Sheet 概第一面-2
A1: (構造設計一級建築士又は設備設計一級建築士である旨の表示をした者)
A2: 上記の設計者のうち、
B3: ='第二面-2'!A3 -> □ | C3: 建築士法第20条の２第１項の表示をした者
B4: 【ｲ．氏名】 | M4: =IF('第二面-2'!M4="","",'第二面-2'!M4)
B5: 【ﾛ．資格】 構造設計一級建築士交付 | N5: 第 | O5: =IF('第二面-2'!N5="","",'第二面-2'!N5) | U5: 号
B6: ='第二面-2'!A6 -> □ | C6: 建築士法第20条の２第３項の表示をした者
B7: 【ｲ．氏名】 | M7: =IF('第二面-2'!M7="","",'第二面-2'!M7)
B8: 【ﾛ．資格】 構造設計一級建築士交付 | N8: 第 | O8: =IF('第二面-2'!N8="","",'第二面-2'!N8) | U8: 号
B9: ='第二面-2'!A9 -> □ | C9: 建築士法第20条の３第１項の表示をした者
B10: 【ｲ．氏名】 | M10: =IF('第二面-2'!M10="","",'第二面-2'!M10)
B11: 【ﾛ．資格】 設備設計一級建築士交付 | N11: 第 | O11: =IF('第二面-2'!N11="","",'第二面-2'!N11) | U11: 号
B12: 【ｲ．氏名】 | M12: =IF('第二面-2'!M12="","",'第二面-2'!M12)
B13: 【ﾛ．資格】 設備設計一級建築士交付 | N13: 第 | O13: =IF('第二面-2'!N13="","",'第二面-2'!N13) | U13: 号
B14: 【ｲ．氏名】 | M14: =IF('第二面-2'!M14="","",'第二面-2'!M14)
B15: 【ﾛ．資格】 設備設計一級建築士交付 | N15: 第 | O15: =IF('第二面-2'!N15="","",'第二面-2'!N15) | U15: 号
B16: ='第二面-2'!A16 -> □ | C16: 建築士法第20条の３第３項の表示をした者
B17: 【ｲ．氏名】 | M17: =IF('第二面-2'!M17="","",'第二面-2'!M17)
B18: 【ﾛ．資格】 設備設計一級建築士交付 | N18: 第 | O18: =IF('第二面-2'!N18="","",'第二面-2'!N18) | U18: 号
B19: 【ｲ．氏名】 | M19: =IF('第二面-2'!M19="","",'第二面-2'!M19)
B20: 【ﾛ．資格】 設備設計一級建築士交付 | N20: 第 | O20: =IF('第二面-2'!N20="","",'第二面-2'!N20) | U20: 号
B21: 【ｲ．氏名】 | M21: =IF('第二面-2'!M21="","",'第二面-2'!M21)
B22: 【ﾛ．資格】 設備設計一級建築士交付 | N22: 第 | O22: =IF('第二面-2'!N22="","",'第二面-2'!N22) | U22: 号
A23: 【4．建築設備の設計に関し意見を聴いた者】
B24: （代表となる建築設備の設計に関し意見を聴いた者）
B25: 【ｲ．氏名】 | H25: =IF('第二面-2'!K25="","",'第二面-2'!K25)
B26: 【ﾛ．勤務先】 | H26: =IF('第二面-2'!K26="","",'第二面-2'!K26)
B27: 【ﾊ．郵便番号】 | I27: =IF('第二面-2'!K27="","",'第二面-2'!K27)
B28: 【ﾆ．所在地】 | H28: =IF('第二面-2'!K28="","",'第二面-2'!K28)
B29: 【ﾎ．電話番号】 | H29: =IF('第二面-2'!K29="","",'第二面-2'!K29)
B30: 【ﾍ．登録番号】 | H30: =IF('第二面-2'!K30="","",'第二面-2'!K30)
B31: 【ﾄ．意見を聴いた設計図書】 | K31: =IF('第二面-2'!K31="","",'第二面-2'!K31)
B32: （その他の建築設備の設計に関し意見を聴いた者）
B33: 【ｲ．氏名】 | H33: =IF('第二面-2'!K33="","",'第二面-2'!K33)
B34: 【ﾛ．勤務先】 | H34: =IF('第二面-2'!K34="","",'第二面-2'!K34)
B35: 【ﾊ．郵便番号】 | I35: =IF('第二面-2'!K35="","",'第二面-2'!K35)
B36: 【ﾆ．所在地】 | H36: =IF('第二面-2'!K36="","",'第二面-2'!K36)
B37: 【ﾎ．電話番号】 | H37: =IF('第二面-2'!K37="","",'第二面-2'!K37)
B38: 【ﾍ．登録番号】 | H38: =IF('第二面-2'!K38="","",'第二面-2'!K38)
B39: 【ﾄ．意見を聴いた設計図書】 | K39: =IF('第二面-2'!K39="","",'第二面-2'!K39)
B40: 【ｲ．氏名】 | H40: =IF('第二面-2'!K40="","",'第二面-2'!K40)
...

Sheet 概第一面-3
A1: 【5．工事監理者】
B2: （代表となる工事監理者）
B3: 【ｲ．資格】 | I3: ( | J3: =IF('第二面-3'!L3="","",'第二面-3'!L3) | M3: )建築士( | P3: =IF('第二面-3'!R3="","",'第二面-3'!R3) | T3: ）登録第 | W3: =IF('第二面-3'!X3="","",'第二面-3'!X3) | AC3: 号
B4: 【ﾛ．氏名】 | H4: =IF('第二面-3'!K4="","",'第二面-3'!K4)
B5: 【ﾊ．建築士事務所名】 ( | J5: =IF('第二面-3'!L5="","",'第二面-3'!L5) | L5: )建築士事務所( | Q5: =IF('第二面-3'!S5="","",'第二面-3'!S5) | T5: )知事登録第 | X5: =IF('第二面-3'!Y5="","",'第二面-3'!Y5) | AC5: 号
H6: =IF('第二面-3'!K6="","",'第二面-3'!K6)
B7: 【ﾆ．郵便番号】 | I7: =IF('第二面-3'!K7="","",'第二面-3'!K7)
B8: 【ﾎ．所在地】 | H8: =IF('第二面-3'!K8="","",'第二面-3'!K8)
B9: 【ﾍ．電話番号】 | H9: =IF('第二面-3'!K9="","",'第二面-3'!K9)
B10: 【ﾄ．工事と照合する設計図書】 | L10: =IF('第二面-3'!K10="","",'第二面-3'!K10)
B12: （その他の工事監理者）
B13: 【ｲ．資格】 | I13: ( | J13: =IF('第二面-3'!L12="","",'第二面-3'!L12) | M13: )建築士( | P13: =IF('第二面-3'!R12="","",'第二面-3'!R12) | T13: ）登録第 | W13: =IF('第二面-3'!X12="","",'第二面-3'!X12) | AC13: 号
B14: 【ﾛ．氏名】 | H14: =IF('第二面-3'!K13="","",'第二面-3'!K13)
B15: 【ﾊ．建築士事務所名】 ( | J15: =IF('第二面-3'!L14="","",'第二面-3'!L14) | L15: )建築士事務所( | Q15: =IF('第二面-3'!S14="","",'第二面-3'!S14) | T15: )知事登録第 | X15: =IF('第二面-3'!Y14="","",'第二面-3'!Y14) | AC15: 号
H16: =IF('第二面-3'!K15="","",'第二面-3'!K15)
B17: 【ﾆ．郵便番号】 | I17: =IF('第二面-3'!K16="","",'第二面-3'!K16)
B18: 【ﾎ．所在地】 | H18: =IF('第二面-3'!K17="","",'第二面-3'!K17)
B19: 【ﾍ．電話番号】 | H19: =IF('第二面-3'!K18="","",'第二面-3'!K18)
B20: 【ﾄ．工事と照合する設計図書】 | L20: =IF('第二面-3'!K19="","",'第二面-3'!K19)
B22: 【ｲ．資格】 | I22: ( | J22: =IF('第二面-3'!L20="","",'第二面-3'!L20) | M22: )建築士( | P22: =IF('第二面-3'!R20="","",'第二面-3'!R20) | T22: ）登録第 | W22: =IF('第二面-3'!X20="","",'第二面-3'!X20) | AC22: 号
B23: 【ﾛ．氏名】 | H23: =IF('第二面-3'!K21="","",'第二面-3'!K21)
B24: 【ﾊ．建築士事務所名】 ( | J24: =IF('第二面-3'!L22="","",'第二面-3'!L22) | L24: )建築士事務所( | Q24: =IF('第二面-3'!S22="","",'第二面-3'!S22) | T24: )知事登録第 | X24: =IF('第二面-3'!Y22="","",'第二面-3'!Y22) | AC24: 号
H25: =IF('第二面-3'!K23="","",'第二面-3'!K23)
B26: 【ﾆ．郵便番号】 | I26: =IF('第二面-3'!K24="","",'第二面-3'!K24)
B27: 【ﾎ．所在地】 | H27: =IF('第二面-3'!K25="","",'第二面-3'!K25)
B28: 【ﾍ．電話番号】 | H28: =IF('第二面-3'!K26="","",'第二面-3'!K26)
B29: 【ﾄ．工事と照合する設計図書】 | L29: =IF('第二面-3'!K27="","",'第二面-3'!K27)
B31: 【ｲ．資格】 | I31: ( | J31: =IF('第二面-3'!L28="","",'第二面-3'!L28) | M31: )建築士( | P31: =IF('第二面-3'!R28="","",'第二面-3'!R28) | T31: ）登録第 | W31: =IF('第二面-3'!X28="","",'第二面-3'!X28) | AC31: 号
B32: 【ﾛ．氏名】 | H32: =IF('第二面-3'!K29="","",'第二面-3'!K29)
B33: 【ﾊ．建築士事務所名】 ( | J33: =IF('第二面-3'!L30="","",'第二面-3'!L30) | L33: )建築士事務所( | Q33: =IF('第二面-3'!S30="","",'第二面-3'!S30) | T33: )知事登録第 | X33: =IF('第二面-3'!Y30="","",'第二面-3'!Y30) | AC33: 号
H34: =IF('第二面-3'!K31="","",'第二面-3'!K31)
B35: 【ﾆ．郵便番号】 | I35: =IF('第二面-3'!K32="","",'第二面-3'!K32)
B36: 【ﾎ．所在地】 | H36: =IF('第二面-3'!K33="","",'第二面-3'!K33)
B37: 【ﾍ．電話番号】 | H37: =IF('第二面-3'!K34="","",'第二面-3'!K34)
B38: 【ﾄ．工事と照合する設計図書】 | L38: =IF('第二面-3'!K35="","",'第二面-3'!K35)
A40: 【6．工事施工者】
A41: 【ｲ．氏名】 | H41: =IF('第二面-3'!K37="","",'第二面-3'!K37)
A42: 【ﾛ．営業所名】建設業の許可 | J42: ( | K42: =IF('第二面-3'!L38="","",'第二面-3'!L38) | O42: ) | P42: =IF('第二面-3'!Q38<>"",'第二面-3'!Q38,"")&IF('第二面-3'!R38<>"",'第二面-3'!R38,"") | T42: 第 | U42: =IF('第二面-3'!U38="","",'第二面-3'!U38) | AC42: 号
H43: =IF('第二面-3'!K39="","",'第二面-3'!K39)
A44: 【ﾊ．郵便番号】 | H44: =IF('第二面-3'!K40="","",'第二面-3'!K40)
...

Sheet 概第二面
A2: 建築計画概要書（第二面）
A3: 建築物及びその敷地に関する事項
A4: 【1.地名地番】 | F4: =IF(第三面!F4="","",第三面!F4)
A5: 【2.住居表示】 | F5: =IF(第三面!F5="","",第三面!F5)
A6: 【3.都市計画区域及び準都市計画区域の内外の別等】
E7: =第三面!D7 -> □ | F7: 都市計画区域内 ( | L7: =第三面!K7 -> □ | M7: 市街化区域 | Q7: =第三面!P7 -> □ | R7: 市街化調整区域 | W7: =第三面!V7 -> □ | X7: 区域区分非設定 )
E8: =第三面!D8 -> □ | F8: 準都市計画区域内 | L8: =第三面!K8 -> □ | M8: 都市計画区域及び準都市計画区域外
A9: 【4.防火地域】 □防火地域 □準防火地域 □指定なし | F9: =第三面!K9 -> □ | G9: 防火地域 | K9: =第三面!P9 -> □ | L9: 準防火地域 | P9: =第三面!V9 -> □ | Q9: 指定なし
A10: 【5.その他の区域、地域、地区又は街区】 | M10: =IF(第三面!M10="","",第三面!M10)
A11: =IF(第三面!A11="","",第三面!A11)
A12: 【6.道路】
A13: 【ｲ．幅員】 | L13: =IF(第三面!N13="","",第三面!N13) | O13: ｍ
A14: 【ﾛ．敷地と接している部分の長さ】 | L14: =IF(第三面!N14="","",第三面!N14) | O14: ｍ
A15: 【7.敷地面積】
A16: 【ｲ．敷地面積】 | G16: (1) | H16: ( | I16: =IF(第三面!J16="","",第三面!J16) | L16: =第三面!M16 | M16: )( | N16: =IF(第三面!O16="","",第三面!O16) | Q16: =第三面!R16 | R16: )( | S16: =IF(第三面!T16="","",第三面!T16) | V16: =第三面!W16 | W16: )( | X16: =IF(第三面!Y16="","",第三面!Y16) | AA16: =第三面!AB16 | AB16: )
G17: (2) | H17: ( | I17: =IF(第三面!J17="","",第三面!J17) | L17: =第三面!M17 | M17: )( | N17: =IF(第三面!O17="","",第三面!O17) | Q17: =第三面!R17 | R17: )( | S17: =IF(第三面!T17="","",第三面!T17) | V17: =第三面!W17 | W17: )( | X17: =IF(第三面!Y17="","",第三面!Y17) | AA17: =第三面!AB17 | AB17: )
A18: 【ﾛ．用途地域等】 | H18: ( | I18: =IF(第三面!J18="","",第三面!J18) | M18: )( | N18: =IF(第三面!O18="","",第三面!O18) | R18: )( | S18: =IF(第三面!T18="","",第三面!T18) | W18: )( | X18: =IF(第三面!Y18="","",第三面!Y18) | AB18: )
A19: 【ﾊ．建築基準法第５２条第１項及び第２項の規定による建築物の容積率】
H20: ( | I20: =IF(第三面!J20="","",第三面!J20) | L20: =第三面!M20 | M20: )( | N20: =IF(第三面!O20="","",第三面!O20) | Q20: =第三面!R20 | R20: )( | S20: =IF(第三面!T20="","",第三面!T20) | V20: =第三面!W20 | W20: )( | X20: =IF(第三面!Y20="","",第三面!Y20) | AA20: =第三面!AB20 | AB20: )
A21: 【ﾆ．建築基準法第５３条第１項の規定による建築物の建蔽率】
H22: ( | I22: =IF(第三面!J22="","",第三面!J22) | L22: =第三面!M22 | M22: )( | N22: =IF(第三面!O22="","",第三面!O22) | Q22: =第三面!R22 | R22: )( | S22: =IF(第三面!T22="","",第三面!T22) | V22: =第三面!W22 | W22: )( | X22: =IF(第三面!Y22="","",第三面!Y22) | AA22: =第三面!AB22 | AB22: )
A23: 【ﾎ．敷地面積の合計】 | H23: (1) | I23: =IF(第三面!J23="","",第三面!J23) -> 0 | L23: ㎡
H24: (2) | I24: =IF(第三面!J24="","",第三面!J24) | L24: =第三面!M24
A25: 【ﾍ．敷地に建築可能な延べ面積を敷地面積で除した数値】 | S25: =IF(第三面!S25="","",第三面!S25) | W25: %
A26: 【ﾄ．敷地に建築可能な建築面積を敷地面積で除した数値】 | S26: =IF(第三面!S26="","",第三面!S26) | W26: %
A27: 【ﾁ．備考】 | E27: =IF(第三面!F27="","",第三面!F27)
A28: 【8.主要用途】 | F28: (区分 | H28: =第三面!H28 -> 0 | M28: ) | O28: =第三面!N28 -> 0
A29: 【9.工事種別】
B30: =第三面!C30 -> □ | C30: 新築 | E30: =第三面!F30 -> □ | F30: 増築 | H30: =第三面!I30 -> □ | I30: 改築 | K30: =第三面!L30 -> □ | L30: 移転 | N30: =第三面!O30 -> □ | O30: 用途変更 | R30: =第三面!S30 -> □ | S30: 大規模の修繕 | X30: =第三面!X30 -> □ | Y30: 大規模の模様替
A31: 【10.建築面積】 | I31: ( | J31: 申請部分 | O31: )( | P31: 申請以外の部分 | U31: )( | V31: 合計 | AA31: )
A32: 【ｲ．建築面積】 | I32: ( | J32: =IF(第三面!J32="","",第三面!J32) | N32: =第三面!N32 | O32: )( | P32: =IF(第三面!P32="","",第三面!P32) | T32: =第三面!T32 | U32: )( | V32: =IF(第三面!V32="","",第三面!V32) -> 0 | Z32: ㎡ | AA32: )
A33: 【ﾛ．建蔽率の算定の基礎
D34: となる建築面積】 | I34: ( | J34: =IF(第三面!J34="","",第三面!J34) | N34: =第三面!N34 | O34: )( | P34: =IF(第三面!P34="","",第三面!P34) | T34: =第三面!T34 | U34: )( | V34: =IF(第三面!V34="","",第三面!V34) -> 0 | Z34: ㎡ | AA34: )
A35: 【ﾊ．建蔽率】 | P35: =IF(第三面!J35="","",第三面!J35) | T35: ％
A36: 【11.延べ面積】 | I36: ( | J36: 申請部分 | O36: )( | P36: 申請以外の部分 | U36: )( | V36: 合計 | AA36: )
A37: 【ｲ．建築物全体】 | I37: ( | J37: =IF(第三面!J37="","",第三面!J37) | N37: =第三面!N37 | O37: )( | P37: =IF(第三面!P37="","",第三面!P37) | T37: =第三面!T37 | U37: )( | V37: =IF(第三面!V37="","",第三面!V37) -> 0 | Z37: ㎡ | AA37: )
A38: 【ﾛ．地階の住宅又は老人ホーム等の部分】
I39: ( | J39: =IF(第三面!J39="","",第三面!J39) | N39: =第三面!N39 | O39: )( | P39: =IF(第三面!P39="","",第三面!P39) | T39: =第三面!T39 | U39: )( | V39: =IF(第三面!V39="","",第三面!V39) | Z39: =IF(V39="","","㎡") | AA39: )
A40: 【ﾊ．エレベーターの昇降路の部分】
I41: ( | J41: =IF(第三面!J41="","",第三面!J41) | N41: =第三面!N41 | O41: )( | P41: =IF(第三面!P41="","",第三面!P41) | T41: =第三面!T41 | U41: )( | V41: =IF(第三面!V41="","",第三面!V41) | Z41: =IF(V41="","","㎡") | AA41: )
...

Sheet 概第二面-2
A1: 【13.建築物の高さ等】 | I1: ( | J1: 申請に係る建築物 | O1: )( | P1: 他の建築物 | U1: )
A2: 【ｲ．最高の高さ】 | I2: ( | J2: =IF('第三面-2'!J9="","",'第三面-2'!J9) | N2: ｍ | O2: )( | P2: =IF('第三面-2'!P9="","",'第三面-2'!P9) | T2: ='第三面-2'!T9 | U2: )
A3: 【ﾛ．階数】 | F3: 地上 | I3: ( | J3: =IF('第三面-2'!J10="","",'第三面-2'!J10) | N3: ='第三面-2'!N10 | O3: )( | P3: =IF('第三面-2'!P10="","",'第三面-2'!P10) | T3: ='第三面-2'!T10 | U3: )
F4: 地下 | I4: ( | J4: =IF('第三面-2'!J11="","",'第三面-2'!J11) | N4: ='第三面-2'!N11 | O4: )( | P4: =IF('第三面-2'!P11="","",'第三面-2'!P11) | T4: ='第三面-2'!T11 | U4: )
A5: 【ﾊ．構造】 | I5: =IF('第三面-2'!J12="","",'第三面-2'!J12) -> 鉄骨 | O5: 造 一部 | R5: =IF('第三面-2'!T12="","",'第三面-2'!T12) | X5: 造
A6: 【ﾆ．建築基準法第５６条第７項の規定による特例の適用の有無】 | V6: ='第三面-2'!T13 -> □ | W6: 有 | Y6: ='第三面-2'!V13 -> ■ | Z6: 無
A7: 【ﾎ．適用があるときは、特例の区分】
C8: ='第三面-2'!D15 -> □ | D8: 道路高さ制限不適用 | K8: ='第三面-2'!K15 -> □ | L8: 隣地高さ制限不適用 | S8: ='第三面-2'!R15 -> □ | T8: 北側高さ制限不適用
A9: 【14.許可・認定等】
B10: =IF('第三面-2'!A17="","",'第三面-2'!A17)
A13: 【15.工事着手予定年月日】 | J13: 令和 | L13: =IF('第三面-2'!K20="","",'第三面-2'!K20) | M13: 年 | N13: =IF('第三面-2'!M20="","",'第三面-2'!M20) | O13: 月 | P13: =IF('第三面-2'!O20="","",'第三面-2'!O20) | Q13: 日
A14: 【16.工事完了予定年月日】 | J14: 令和 | L14: =IF('第三面-2'!K22="","",'第三面-2'!K22) | M14: 年 | N14: =IF('第三面-2'!M22="","",'第三面-2'!M22) | O14: 月 | P14: =IF('第三面-2'!O22="","",'第三面-2'!O22) | Q14: 日
A15: 【17.特定工程工事終了予定年月日】 | Q15: （特定工程）
B16: （ | C16: 第 | D16: =IF('第三面-2'!D25="","",'第三面-2'!D25) | E16: 回 | F16: ） | H16: 令和 | J16: =IF('第三面-2'!I25="","",'第三面-2'!I25) | K16: 年 | L16: =IF('第三面-2'!K25="","",'第三面-2'!K25) | M16: 月 | N16: ='第三面-2'!M25 | O16: 日 | P16: （ | Q16: =IF('第三面-2'!P25="","",'第三面-2'!P25) | AC16: ）
B17: （ | C17: 第 | D17: =IF('第三面-2'!D26="","",'第三面-2'!D26) | E17: 回 | F17: ） | H17: 令和 | J17: =IF('第三面-2'!I26="","",'第三面-2'!I26) | K17: 年 | L17: =IF('第三面-2'!K26="","",'第三面-2'!K26) | M17: 月 | N17: =IF('第三面-2'!M26="","",'第三面-2'!M26) | O17: 日 | P17: （ | Q17: =IF('第三面-2'!P26="","",'第三面-2'!P26) | AC17: ）
B18: （ | C18: 第 | D18: =IF('第三面-2'!D27="","",'第三面-2'!D27) | E18: 回 | F18: ） | H18: 令和 | J18: =IF('第三面-2'!I27="","",'第三面-2'!I27) | K18: 年 | L18: =IF('第三面-2'!K27="","",'第三面-2'!K27) | M18: 月 | N18: =IF('第三面-2'!M27="","",'第三面-2'!M27) | O18: 日 | P18: （ | Q18: =IF('第三面-2'!P27="","",'第三面-2'!P27) | AC18: ）
A19: 【18.建築基準法第１２条第１項の規定による調査の要否】 | AE19: □ | AF19: 要 | AG19: ← | AH19: 【18.建築基準法第１２条第１項の規定による調査の要否】を入力してください。
C20: =AE19 -> □ | D20: 要 | G20: =AE20 -> □ | H20: 否 | AE20: □ | AF20: 否
A21: 【19.建築基準法第１２条第３項の規定による検査を要する防火設備の有無】 | AE21: □ | AF21: 有 | AG21: ← | AH21: 【19.建築基準法第１２条第３項の規定による検査を要する防火設備の有無】を入力してください。
C22: =AE21 -> □ | D22: 有 | G22: =AE22 -> □ | H22: 無 | AE22: □ | AF22: 無
A23: 【20.その他必要な事項】
B24: =IF('第三面-2'!A30="","",'第三面-2'!A30)

Sheet 概第三面
A1: 建築計画概要書（第三面）
A4: 付近見取図
A6: 配置図
A8: （注意） １．第一面及び第二面関係 ① これらは第二号様式の第二面及び第三面の写しに代えることができます。この場合には、最上段に「建築計画概要書（第一面）」及び「建築計画概要書（第二面）」と明示し、第二面の18欄の事項を第二号様式の第三面の写しの20欄に記載してください。 ② 第一面の５欄及び６欄は、それぞれ工事監理者又は工事施工者が未定のときは、後で定まつてから工事着手前に届け出てください。この場合には、特定行政庁が届出のあつた旨を明示した上で記入します。 ③ 第二面の20欄の「イ」は、申請に係る建築物が複数ある場合で、そのうち一部の建築物のみが建築士法第20条の２第２項に規定する構造関係規定に係る経過措置の適用を受ける場合は、「有」に「レ」マークを入れた上で、第三面の配置図に当該建築物を明示してください。 ２．第三面関係 ① 付近見取図には、方位、道路及び目標となる地物を明示してください。 ② 配置図には、縮尺、方位、敷地境界線、敷地内における建築物の位置、申請に係る建築物と他の建築物との別並びに敷地の接する道路の位置及び幅員を明示してください。

Sheet 概第一面（主）
X1: （別紙）
A2: 【1．建築主】
B3: 【ｲ．氏名のﾌﾘｶﾞﾅ】 | H3: =IF('第二面（主）'!K4="","",'第二面（主）'!K4)
B4: 【ﾛ．氏名】 | H4: =IF('第二面（主）'!K5="","",'第二面（主）'!K5)
B5: 【ﾊ．郵便番号】 | I5: =IF('第二面（主）'!K6="","",'第二面（主）'!K6)
B6: 【ﾆ．住所】 | H6: =IF('第二面（主）'!K7="","",'第二面（主）'!K7)
B8: 【ｲ．氏名のﾌﾘｶﾞﾅ】 | H8: =IF('第二面（主）'!K11="","",'第二面（主）'!K11)
B9: 【ﾛ．氏名】 | H9: =IF('第二面（主）'!K12="","",'第二面（主）'!K12)
B10: 【ﾊ．郵便番号】 | I10: =IF('第二面（主）'!K13="","",'第二面（主）'!K13)
B11: 【ﾆ．住所】 | H11: =IF('第二面（主）'!K14="","",'第二面（主）'!K14)
B13: 【ｲ．氏名のﾌﾘｶﾞﾅ】 | H13: =IF('第二面（主）'!K18="","",'第二面（主）'!K18)
B14: 【ﾛ．氏名】 | H14: =IF('第二面（主）'!K19="","",'第二面（主）'!K19)
B15: 【ﾊ．郵便番号】 | I15: =_xlfn.SINGLE(IF(_xlfn.SINGLE('第二面（主）'!K20)="","",'第二面（主）'!K20))
B16: 【ﾆ．住所】 | H16: =IF('第二面（主）'!K21="","",'第二面（主）'!K21)
B18: 【ｲ．氏名のﾌﾘｶﾞﾅ】 | H18: =IF('第二面（主）'!K25="","",'第二面（主）'!K25)
B19: 【ﾛ．氏名】 | H19: =IF('第二面（主）'!K26="","",'第二面（主）'!K26)
B20: 【ﾊ．郵便番号】 | I20: =_xlfn.SINGLE(IF(_xlfn.SINGLE('第二面（主）'!K27)="","",'第二面（主）'!K27))
B21: 【ﾆ．住所】 | H21: =IF('第二面（主）'!K28="","",'第二面（主）'!K28)
B23: 【ｲ．氏名のﾌﾘｶﾞﾅ】 | H23: =IF('第二面（主）'!K32="","",'第二面（主）'!K32)
B24: 【ﾛ．氏名】 | H24: =IF('第二面（主）'!K33="","",'第二面（主）'!K33)
B25: 【ﾊ．郵便番号】 | I25: =_xlfn.SINGLE(IF(_xlfn.SINGLE('第二面（主）'!K34)="","",'第二面（主）'!K34))
B26: 【ﾆ．住所】 | H26: =IF('第二面（主）'!K35="","",'第二面（主）'!K35)
B28: 【ｲ．氏名のﾌﾘｶﾞﾅ】 | H28: =IF('第二面（主）'!K39="","",'第二面（主）'!K39)
B29: 【ﾛ．氏名】 | H29: =IF('第二面（主）'!K40="","",'第二面（主）'!K40)
B30: 【ﾊ．郵便番号】 | I30: =_xlfn.SINGLE(IF(_xlfn.SINGLE('第二面（主）'!K41)="","",'第二面（主）'!K41))
B31: 【ﾆ．住所】 | H31: =IF('第二面（主）'!K42="","",'第二面（主）'!K42)

Sheet 建築工事届（別記第40号様式）
A1: 第四十号様式（第八条関係）（Ａ４）
A4: 建築基準法第15条第１項の規定による
A6: 建築工事届
A8: （第一面）
Y10: =TEXT(第一面!AI18,"yyyy") -> 1900 | AC10: 年 | AD10: =第一面!AD18 | AF10: 月 | AG10: =第一面!AF18 | AI10: 日
A12: =IFERROR(IF(LEFT(第三面!F4,3)="東京都","東京都",IF(FIND("県",第三面!F4,1)>0,LEFT(第三面!F4,FIND("県",第三面!F4,1)),"")),"") | M12: 知事 様
A15: 建築主
D16: 氏名 | I16: =IF(第二面!K5="","",第二面!K5)&" "&IF(AND('第二面（主）'!K5<>"",BA16<>""),'第二面（主）'!K5,"")&" "&IF(AND('第二面（主）'!K12<>"",BA16<>""),'第二面（主）'!K12,"")
D17: 郵便番号 | I17: =LEFT(IF(第二面!K6="","",第二面!K6),3) | N17: - | O17: =RIGHT(IF(第二面!K6="","",第二面!K6),4)
D18: 住所 | I18: =IF(第二面!K7="","",第二面!K7)
D19: 電話番号 | N19: - | T19: -
A21: 工事施工者（設計者又は代理者）
D22: 氏名 | I22: =IF(AND('第二面-3'!K37="未定",BA22="設計者"),第二面!K22,IF(AND('第二面-3'!K37="未定",BA22="代理者"),第二面!K12,'第二面-3'!K37)) -> 0 | BA22: 代理者
D23: 営業所名（建築士事務所名） | P23: =IF(AND('第二面-3'!K39="",BA22="設計者"),第二面!K24,IF(AND('第二面-3'!K39="",BA22="代理者"),第二面!K14,'第二面-3'!K39))
D24: 郵便番号 | I24: =LEFT(IF(AND('第二面-3'!K40="",BA22="設計者"),第二面!K25,IF(AND('第二面-3'!K40="",BA22="代理者"),第二面!K15,'第二面-3'!K40)),3) | N24: - | O24: =RIGHT(IF(AND('第二面-3'!K40="",BA22="設計者"),第二面!K25,IF(AND('第二面-3'!K40="",BA22="代理者"),第二面!K15,'第二面-3'!K40)),4)
D25: 所在地 | I25: =IF(AND('第二面-3'!K41="",BA22="設計者"),第二面!K26,IF(AND('第二面-3'!K41="",BA22="代理者"),第二面!K16,'第二面-3'!K41))
D26: 電話番号 | N26: - | T26: -
D27: 担当者の氏名
D28: 担当者の電話番号 | P28: - | V28: -
A30: 工事監理者
D31: 氏名 | I31: =IF('第二面-3'!K4="","",'第二面-3'!K4)
D32: 営業所名（建築士事務所名） | P32: =IF('第二面-3'!K6="","",'第二面-3'!K6)
D33: 郵便番号 | I33: =LEFT(IF('第二面-3'!K7="","",'第二面-3'!K7),3) | N33: - | O33: =RIGHT(IF('第二面-3'!K7="","",'第二面-3'!K7),4)
D34: 所在地 | I34: =IF('第二面-3'!K8="","",'第二面-3'!K8)
D35: 電話番号 | N35: - | T35: -
A37: 建築確認
D38: 確認済証番号 | O38: 第 | AD38: 号
D39: 確認済証交付年月日 | R39: 年 | W39: 月 | AB39: 日
D40: 確認済証交付者 | L40: 株式会社都市建築確認センター
A42: 除却工事施工者
D43: 氏名
D44: 営業所名
D45: 郵便番号 | N45: -
D46: 所在地
D47: 電話番号 | N47: - | T47: -
D48: 担当者の氏名
D49: 担当者の電話番号 | P49: - | V49: -
A52: ※受付経由機関記載欄
A56: （第二面）
A59: 【１．着工及び工事完了の予定期日】 | AS59: カウント
...

Sheet 注意（工事届）20250101
A1: （注意） １．各面共通関係 数字は算用数字を、単位はメートル法を用いてください。また、小数点以下の数値は四捨五入してくだ さい。 ２．第一面関係 ① 工事施工者及び除却工事施工者の担当者の氏名欄及び担当者の電話番号欄並びに工事監理者の氏名欄 及び電話番号欄には、受付経由機関等が工事内容について確認を行う際に回答ができる担当者の氏名及 び電話番号を記入してください。 ② ※印のある欄は記入しないでください。 ③ 除却工事施工者欄は、既存の建築物を除却し、引き続き、当該敷地内において建築物を建築しようと する場合に記入してください。 ３．第二面関係 ① ２欄の「イ」及び「ロ」、３欄の「ロ」、４欄並びに６欄の「ニ」は、該当するチェックボックスに 「レ」マークを入れてください。 ② ２欄の「イ」において、「会社」とは、株式会社、合名会社、合資会社及び合同会社をいい、特別の 法律により設立された法人で会社であるものを含みます。 ③ ２欄の「ロ」は、建築主が会社であるときのみ記入してください。 ④ ３欄の「ロ」において、「区域区分非設定都市計画区域」とは、区域区分が定められていない都市計 画区域をいいます。 ⑤ 増築と改築とを同時に行うときは、４欄は床面積の大きい方の工事によつて区分してください。 ⑥ ５欄は、居住専用建築物の場合は、次の表の記号の中から該当するものを選んで記入してください。
B21: 主要用途の区分 | AF21: 記号
B22: 居住専用住宅 | J22: 住宅、住宅附属建築物（物置、車庫等） | AF22: 01
B23: 居住専用準住宅 | J23: 寮、合宿所、寄宿舎、準住宅附属建築物（物置、車庫等） | AF23: 02
A24: ⑦ ５欄は、居住産業併用建築物又は産業専用建築物の場合は、産業の用に供する部分について、次の表 の記号の中から該当するものを選んで記入してください。また、一敷地内に既存の建築物があるとき は、記入に際しては、その部分と新たに建築する部分とを総合して判断してください。
B26: 主要用途の区分 | AF26: 記号
AF27: 居住 産業 併用 | AI27: 産業 専用
B28: 農林水産業 | J28: 農業、林業、漁業、水産養殖業 | AF28: 10 | AI28: 30
B29: 鉱業、採石業、砂利採取業、建設業 | AF29: 11 | AI29: 31
B30: 製造業 | J30: 食料品製造業、飲料・たばこ・飼料製造業、繊維工業、木材・木製品製造業、家具・装備品製造業、パルプ・紙・紙加工品製造業、印刷・同関連業、化学工業、石油製品・石炭製品製造業、プラスチック製品製造業、ゴム製品製造業、なめし革・同製品・毛皮製造業、窯業・土石製品製造業、鉄鋼業、非鉄金属製造業、金属製品製造業、はん用機械器具製造業、生産用機械器具製造業、業務用機械器具製造業、電子部品・デバイス・電子回路製造業、電気機械器具製造業、情報通信機械器具製造業、輸送用機械器具製造業、その他の製造業 | AF30: 12 | AI30: 32
B31: 電気・ガス・熱供給・水道業 | AF31: 13 | AI31: 33
B32: 情報通信業 | J32: 通信業、放送業、情報サービス業、インターネット附随サービス業、映像・音声・文字情報制作業 | AF32: 14 | AI32: 34
B33: 運輸業 | J33: 鉄道業、道路旅客運送業、道路貨物運送業、水運業、航空運輸業、倉庫業、運輸に附帯するサービス業 | AF33: 15 | AI33: 35
B34: 卸売業、小売業 | AF34: 16 | AI34: 36
B35: 金融業、保険業 | AF35: 17 | AI35: 37
B36: 不動産業 | J36: 不動産取引業、不動産賃貸業・管理業 | AF36: 18 | AI36: 38
B37: 宿泊業、飲食サービス業 | J37: 宿泊業、飲食店、持ち帰り・配達飲食サービス業 | AF37: 19 | AI37: 39
B38: 教育、学習支援業 | J38: 学校教育、その他の教育、学習支援業（社会教育、学習塾及び教養・技能教授業ほか） | AF38: 20 | AI38: 40
B39: 医療、福祉 | J39: 医療業、保健衛生、社会保険・社会福祉・介護事業 | AF39: 21 | AI39: 41
B40: その他のサービス業 | J40: 郵便業（信書便事業を含む。）、郵便局、学術・開発研究機関、政治・経済・文化団体、旅行業、娯楽業、宗教、物品賃貸業、専門サービス業、広告業、技術サービス業、洗濯・理容・美容・浴場業、その他の生活関連サービス業、協同組合、サービス業 | AF40: 22 | AI40: 42
B41: 国家公務、地方公務 | AF41: 23 | AI41: 43
B42: 他に分類されないもの | AF42: 24 | AI42: 44
A44: ⑧ ６欄は、一の建築物（１棟）ごとに各列に記入してください。 ⑨ ６欄の「イ」は、建築物の数が１のときは「１」と記入し、建築物の数が２以上のときは、一の建築 物（１棟）ごとに通し番号を付し、その番号を記入してください。 ⑩ ６欄の「ロ」は、届出時点の物件名を記入してください。 ⑪ ６欄の「ハ」は、居住専用建築物の場合は、次の表の記号の中から該当するものを選んで記入してく ださい。
B50: 用途の分類 | AH50: 記号
B51: 一戸建ての住宅 | AH51: 08010
B52: 長屋 | AH52: 08020
B53: 共同住宅 | AH53: 08030
B54: 寄宿舎 | AH54: 08040
B55: 下宿 | AH55: 08050
A57: ⑫ ６欄の「ハ」は、居住産業併用建築物又は産業専用建築物の場合は、産業の用に供する部分につい て、次の表の記号の中から該当するものを選んで記入してください。一の建築物に、２種類以上の用途 （既存部分があるときは、その用途を含む。）があるときは、一番大きい床面積の用途について記入 し、３種類以上の用途（既存部分があるときは、その用途を含む。）があるときは、「多用途」のチェ ックボックスに「レ」マークを入れてください。
B63: 用途の分類 | AH63: 記号
B64: 一戸建ての住宅 | AF64: 08010 | AH64: 08010
B65: 長屋 | AF65: 08020 | AH65: 08020
B66: 共同住宅 | AF66: 08030 | AH66: 08030
B67: 寄宿舎 | AF67: 08040 | AH67: 08040
B68: 下宿 | AF68: 08050 | AH68: 08050
B69: 住宅で事務所、店舗その他これらに類する用途を兼ねるもの | AF69: 08060 | AH69: 08060
B70: 幼稚園 | AH70: 08070
B71: 小学校 | AH71: 08080
B72: 義務教育学校 | AH72: 08082
...

Sheet 委任状
A1: TKC－第 1－2 号様式
A5: 委 任 状
A7: （確認申請・中間検査・完了検査・仮使用認定等）
A9: 私は下記の者を代理人と定め、株式会社都市建築確認センターに対する下記の業務に関する手続き等及び交付される文書の受領の権限を委任します。
A17: 記
A20: 委任する業務 （該当項目をチェック）
I21: □ | J21: 確認申請業務 | U21: □ | V21: 軽微変更届出業務
I23: □ | J23: 記載事項等届出業務 | U23: □ | V23: 中間検査業務
I25: □ | J25: 完了検査業務 | U25: □ | V25: 仮使用認定業務
A27: 建築物の名称 | H27: ='第二面-3'!A52 -> 0
A29: 敷地の地名地番 | H29: =第三面!F4 -> 0
A31: 委任先 | H31: （氏 名） | M31: =第二面!K12
H33: （会社名） | M33: =第二面!K14
H35: （住 所） | M35: =第二面!K16
L43: 令和 | P43: 年 | S43: 月 | V43: 日
M45: 住 所 | P45: =第二面!K7 -> 0
M48: 氏 名 | P48: =建築主１!B2&CHAR(10)&建築主１!D2 -> 0

Sheet 連絡先
A2: TKC－第 1－4－2 号様式 | T2: =IF(AA2="","",IF(AA2<43586,TEXT(AA2,"ggge年m月d日"),IF(AA2<43831,TEXT(AA2,"令和元年m月d日"),("令和"&(YEAR(AA2)-2018)&"年")&TEXT(AA2,"m月d日"))))
A3: 予備審査事前連絡先記入シート(確認審査用)
M4: ※印の項目については必ずご記入をお願いします。
A5: ※物 件 名 | C5: =IF('第二面-3'!A52<>"",'第二面-3'!A52,"")
A7: ※ご担当者様 (質疑等送付先) | C7: 意 匠 担 当 | H7: 会社名
H8: 氏 名
H9: T E L | Q9: FAX
H10: MAIL
C11: 構 造 担 当 | H11: 会社名
H12: 氏 名
H13: T E L | Q13: FAX
H14: MAIL
C15: 設 備 担 当 | H15: 会社名
H16: 氏 名
H17: T E L | Q17: FAX
H18: MAIL
A19: 注意： 申請手数料欄は仮受時に不明の場合は未記入でもよいですが、本受付時に未記入ですと本受付になりませんので、御注意ください。
A20: ※申請手数料 | C20: 請求書宛名
C21: 電話番号
C22: 請求書送付先名
C23: 住 所
C24: 電話番号 | Q24: 郵便番号
C25: メールアドレス
A26: ※提出図書 | C26: 提出書類
C27: 正 | D27: 副 | E27: 関連図書 | O27: 備考（不足書類等あれば記載してください。）
C28: □ | D28: □ | E28: 意匠関連図面
C29: □ | D29: □ | E29: 設備関連図面
C30: □ | D30: □ | E30: 構造関連図面
C31: □ | D31: □ | E31: 構造計算書
C32: □ | D32: □
A33: ※ 追加項目 | C33: 有 | E33: 項目 | O33: 備考
C34: □ | E34: 構造計算適合性判定（構造適判）（※他機関）
C35: □ | E35: 構造計算ルート２
C36: □ | E36: 性能検証法（耐火・避難・防火区画）
C37: □
A38: 他制度申請 | C38: 申請予定（複数選択可）
C39: 同時 | D39: 予定 | E39: 制度 | O39: 交付期限
C40: □ | D40: □ | E40: 建築物エネルギー消費性能適合性判定（省エネ適判） | O40: 確認申請交付まで
C41: □ | D41: □ | E41: 設計住宅性能評価
C42: □ | D42: □ | E42: 建設住宅性能評価 | O42: 初回検査まで（基礎配筋検査等）
...

Sheet 調査表
A1: TKC－第１－４号様式 | AB1: （第 1 面）
A2: 予 備 審 査 調 査 表
